BEGIN:VCALENDAR
VERSION:2.0
PRODID:-//Clinton Street Theater - ECPv6.15.20//NONSGML v1.0//EN
CALSCALE:GREGORIAN
METHOD:PUBLISH
X-WR-CALNAME:Clinton Street Theater
X-ORIGINAL-URL:https://cstpdx.com
X-WR-CALDESC:Events for Clinton Street Theater
REFRESH-INTERVAL;VALUE=DURATION:PT1H
X-Robots-Tag:noindex
X-PUBLISHED-TTL:PT1H
BEGIN:VTIMEZONE
TZID:America/Los_Angeles
BEGIN:DAYLIGHT
TZOFFSETFROM:-0800
TZOFFSETTO:-0700
TZNAME:PDT
DTSTART:20240310T100000
END:DAYLIGHT
BEGIN:STANDARD
TZOFFSETFROM:-0700
TZOFFSETTO:-0800
TZNAME:PST
DTSTART:20241103T090000
END:STANDARD
BEGIN:DAYLIGHT
TZOFFSETFROM:-0800
TZOFFSETTO:-0700
TZNAME:PDT
DTSTART:20250309T100000
END:DAYLIGHT
BEGIN:STANDARD
TZOFFSETFROM:-0700
TZOFFSETTO:-0800
TZNAME:PST
DTSTART:20251102T090000
END:STANDARD
BEGIN:DAYLIGHT
TZOFFSETFROM:-0800
TZOFFSETTO:-0700
TZNAME:PDT
DTSTART:20260308T100000
END:DAYLIGHT
BEGIN:STANDARD
TZOFFSETFROM:-0700
TZOFFSETTO:-0800
TZNAME:PST
DTSTART:20261101T090000
END:STANDARD
END:VTIMEZONE
BEGIN:VEVENT
DTSTART;TZID=America/Los_Angeles:20251204T190000
DTEND;TZID=America/Los_Angeles:20251204T210000
DTSTAMP:20260423T094948
CREATED:20251020T201619Z
LAST-MODIFIED:20251103T190043Z
UID:10002047-1764874800-1764882000@cstpdx.com
SUMMARY:Blessings Movie Night Presents: Angel Dust
DESCRIPTION:Portland visual artist Eatcho curates this month’s Blessings Movie Night for an original live score to Gakuryū Ishii’s Angel Dust by musicians Jonathan Benz of Uriel and Sam Klickner of Teton & Unity Garnish. \n\n\n\nAcross several Mondays\, a different young woman is murdered in the subway\, leading psychiatrist Setsuko Suma to help detectives investigate Dr. Rei Aku’s deprogramming of former sect members. \n\n\n\nPlease note: This is not a typical screening. An improvised live score will accompany the film\, which will be played with English subtitles. Remember to be kind and chill.  \n\n\n\n    \n        Director: Gakuryū Ishii\n        Year: 1994\n        Country: Japan\n        Runtime: 117 minutes
URL:https://cstpdx.com/event/blessings-movie-night-presents-angel-dust/
CATEGORIES:animation,music
ATTACH;FMTTYPE=image/png:https://cstpdx.com/wp-content/uploads/2025/10/angel-dust.png
END:VEVENT
END:VCALENDAR