BEGIN:VCALENDAR
VERSION:2.0
PRODID:-//Clinton Street Theater - ECPv6.15.20//NONSGML v1.0//EN
CALSCALE:GREGORIAN
METHOD:PUBLISH
X-ORIGINAL-URL:https://cstpdx.com
X-WR-CALDESC:Events for Clinton Street Theater
REFRESH-INTERVAL;VALUE=DURATION:PT1H
X-Robots-Tag:noindex
X-PUBLISHED-TTL:PT1H
BEGIN:VTIMEZONE
TZID:America/Los_Angeles
BEGIN:DAYLIGHT
TZOFFSETFROM:-0800
TZOFFSETTO:-0700
TZNAME:PDT
DTSTART:20240310T100000
END:DAYLIGHT
BEGIN:STANDARD
TZOFFSETFROM:-0700
TZOFFSETTO:-0800
TZNAME:PST
DTSTART:20241103T090000
END:STANDARD
BEGIN:DAYLIGHT
TZOFFSETFROM:-0800
TZOFFSETTO:-0700
TZNAME:PDT
DTSTART:20250309T100000
END:DAYLIGHT
BEGIN:STANDARD
TZOFFSETFROM:-0700
TZOFFSETTO:-0800
TZNAME:PST
DTSTART:20251102T090000
END:STANDARD
BEGIN:DAYLIGHT
TZOFFSETFROM:-0800
TZOFFSETTO:-0700
TZNAME:PDT
DTSTART:20260308T100000
END:DAYLIGHT
BEGIN:STANDARD
TZOFFSETFROM:-0700
TZOFFSETTO:-0800
TZNAME:PST
DTSTART:20261101T090000
END:STANDARD
END:VTIMEZONE
BEGIN:VEVENT
DTSTART;TZID=America/Los_Angeles:20251203T190000
DTEND;TZID=America/Los_Angeles:20251203T210000
DTSTAMP:20260423T094314
CREATED:20251127T200105Z
LAST-MODIFIED:20251127T200106Z
UID:10002105-1764788400-1764795600@cstpdx.com
SUMMARY:THE MILLENNIAL BEE (1983) (Church of Film)
DESCRIPTION:Through fire\, snow\, and hail\, this swirling\, discursive Magic Realist epic follows three generations and thirty years in a Slovakian village\, and the spirit of the irrepressible beehive that represents them. \n\n\n\nTHE MILLENNIAL BEE is a towering patchwork portrait of sex\, labor and death at the turn of the Twentieth Century\, leading to the slaughter of the first World War and the birth of Socialist resistance. Told with absurd and psychedelic detours\, and director Juraj Jakubisko’s signature soaring camerawork\, it’s often considered the Czechoslovakian New Wave legend’s greatest achievement!
URL:https://cstpdx.com/event/the-millennial-bee-1983-church-of-film/
CATEGORIES:film
ATTACH;FMTTYPE=image/jpeg:https://cstpdx.com/wp-content/uploads/2025/11/millennial.jpg
END:VEVENT
END:VCALENDAR