BEGIN:VCALENDAR
VERSION:2.0
PRODID:-//Clinton Street Theater - ECPv6.15.20//NONSGML v1.0//EN
CALSCALE:GREGORIAN
METHOD:PUBLISH
X-WR-CALNAME:Clinton Street Theater
X-ORIGINAL-URL:https://cstpdx.com
X-WR-CALDESC:Events for Clinton Street Theater
REFRESH-INTERVAL;VALUE=DURATION:PT1H
X-Robots-Tag:noindex
X-PUBLISHED-TTL:PT1H
BEGIN:VTIMEZONE
TZID:America/Los_Angeles
BEGIN:DAYLIGHT
TZOFFSETFROM:-0800
TZOFFSETTO:-0700
TZNAME:PDT
DTSTART:20240310T100000
END:DAYLIGHT
BEGIN:STANDARD
TZOFFSETFROM:-0700
TZOFFSETTO:-0800
TZNAME:PST
DTSTART:20241103T090000
END:STANDARD
BEGIN:DAYLIGHT
TZOFFSETFROM:-0800
TZOFFSETTO:-0700
TZNAME:PDT
DTSTART:20250309T100000
END:DAYLIGHT
BEGIN:STANDARD
TZOFFSETFROM:-0700
TZOFFSETTO:-0800
TZNAME:PST
DTSTART:20251102T090000
END:STANDARD
BEGIN:DAYLIGHT
TZOFFSETFROM:-0800
TZOFFSETTO:-0700
TZNAME:PDT
DTSTART:20260308T100000
END:DAYLIGHT
BEGIN:STANDARD
TZOFFSETFROM:-0700
TZOFFSETTO:-0800
TZNAME:PST
DTSTART:20261101T090000
END:STANDARD
END:VTIMEZONE
BEGIN:VEVENT
DTSTART;TZID=America/Los_Angeles:20251129T110000
DTEND;TZID=America/Los_Angeles:20251129T121500
DTSTAMP:20260423T112804
CREATED:20250922T233519Z
LAST-MODIFIED:20250922T233520Z
UID:10002007-1764414000-1764418500@cstpdx.com
SUMMARY:The Amazing Bubble Man
DESCRIPTION:Louis Pearl has been thrilling audiences around the world for nearly 30 years with the art\, magic\, science and fun of bubbles. He is a favorite at the Edinburgh Fringe Festival\, where he has enjoyed eleven years of sell-out success. \n\n\n\nLouis explores the breath-taking dynamics of bubbles\, combining comedy and artistry with audience participation and enough spellbinding bubble tricks to keep everyone mesmerized. From square bubbles\, bubbles inside bubbles\, fog-filled bubbles\, giant bubbles\, bubble volcanoes\, tornados and trampolines to people inside bubbles\, the Amazing Bubble Man conjures shrieks of laughter and gasps of amazement from all ages.
URL:https://cstpdx.com/event/the-amazing-bubble-man-13/
CATEGORIES:bubble man
ATTACH;FMTTYPE=image/webp:https://cstpdx.com/wp-content/uploads/2023/09/amazing-bubble-man.webp
END:VEVENT
BEGIN:VEVENT
DTSTART;TZID=America/Los_Angeles:20251129T140000
DTEND;TZID=America/Los_Angeles:20251129T151500
DTSTAMP:20260423T112804
CREATED:20250922T233611Z
LAST-MODIFIED:20250922T233612Z
UID:10002008-1764424800-1764429300@cstpdx.com
SUMMARY:The Amazing Bubble Man
DESCRIPTION:Louis Pearl has been thrilling audiences around the world for nearly 30 years with the art\, magic\, science and fun of bubbles. He is a favorite at the Edinburgh Fringe Festival\, where he has enjoyed eleven years of sell-out success. \n\n\n\nLouis explores the breath-taking dynamics of bubbles\, combining comedy and artistry with audience participation and enough spellbinding bubble tricks to keep everyone mesmerized. From square bubbles\, bubbles inside bubbles\, fog-filled bubbles\, giant bubbles\, bubble volcanoes\, tornados and trampolines to people inside bubbles\, the Amazing Bubble Man conjures shrieks of laughter and gasps of amazement from all ages.
URL:https://cstpdx.com/event/the-amazing-bubble-man-14/
CATEGORIES:bubble man
ATTACH;FMTTYPE=image/webp:https://cstpdx.com/wp-content/uploads/2024/10/bubble-man.webp
END:VEVENT
BEGIN:VEVENT
DTSTART;TZID=America/Los_Angeles:20251129T190000
DTEND;TZID=America/Los_Angeles:20251129T210000
DTSTAMP:20260423T112804
CREATED:20251014T154945Z
LAST-MODIFIED:20251014T154947Z
UID:10002041-1764442800-1764450000@cstpdx.com
SUMMARY:No Other Land
DESCRIPTION:For half a decade\, Basel Adra\, a Palestinian activist\, films his community of Masafer Yatta being destroyed by Israel’s occupation\, as he builds an unlikely alliance with an Israeli journalist who wants to join his fight. No Other Land is an unflinching account of a community’s mass expulsion and acts as a creative resistance to Apartheid and a search for a path towards equality and justice. \n\n\n\nScreening presented by and benefiting Quaker Palestine Israel Network.
URL:https://cstpdx.com/event/no-other-land/
CATEGORIES:documentary
ATTACH;FMTTYPE=image/jpeg:https://cstpdx.com/wp-content/uploads/2025/10/no-other-land-poster.jpg
END:VEVENT
BEGIN:VEVENT
DTSTART;TZID=America/Los_Angeles:20251129T223000
DTEND;TZID=America/Los_Angeles:20251129T235900
DTSTAMP:20260423T112804
CREATED:20250914T202823Z
LAST-MODIFIED:20250915T161103Z
UID:10002006-1764455400-1764460740@cstpdx.com
SUMMARY:The Rocky Horror Picture Show with Rogue Apostles Entertainment
DESCRIPTION:Doors open at 10:00 PM; pre-show starts at 10:30 PM \n\n\n\nJoin our weekly screenings of The Rocky Horror Picture Show that started in April of 1978! Starring Tim Curry\, Susan Sarandon\, and Barry Bostwick\, The Rocky Horror Picture Show (1975) continues to titillate and delight audiences all over the world. \n\n\n\nTonight’s screening features the cast from Rogue Apostles Entertainment! Proceeds from every ticket goes to support the group. Come see the famous\, rambunctious show that has played every single week at the Clinton Street Theater in Portland\, Oregon.  \n\n\n\n\nDirector: Jim Sharman\n\n\n\nCountry: USA\n\n\n\nYear: 1975\n\n\n\nRuntime: 100 minutes
URL:https://cstpdx.com/event/the-rocky-horror-picture-show-with-rogue-apostles-entertainment/
CATEGORIES:drag
ATTACH;FMTTYPE=image/webp:https://cstpdx.com/wp-content/uploads/2025/09/rogue-apostles.webp
END:VEVENT
END:VCALENDAR