BEGIN:VCALENDAR
VERSION:2.0
PRODID:-//Clinton Street Theater - ECPv6.15.20//NONSGML v1.0//EN
CALSCALE:GREGORIAN
METHOD:PUBLISH
X-ORIGINAL-URL:https://cstpdx.com
X-WR-CALDESC:Events for Clinton Street Theater
REFRESH-INTERVAL;VALUE=DURATION:PT1H
X-Robots-Tag:noindex
X-PUBLISHED-TTL:PT1H
BEGIN:VTIMEZONE
TZID:America/Los_Angeles
BEGIN:DAYLIGHT
TZOFFSETFROM:-0800
TZOFFSETTO:-0700
TZNAME:PDT
DTSTART:20240310T100000
END:DAYLIGHT
BEGIN:STANDARD
TZOFFSETFROM:-0700
TZOFFSETTO:-0800
TZNAME:PST
DTSTART:20241103T090000
END:STANDARD
BEGIN:DAYLIGHT
TZOFFSETFROM:-0800
TZOFFSETTO:-0700
TZNAME:PDT
DTSTART:20250309T100000
END:DAYLIGHT
BEGIN:STANDARD
TZOFFSETFROM:-0700
TZOFFSETTO:-0800
TZNAME:PST
DTSTART:20251102T090000
END:STANDARD
BEGIN:DAYLIGHT
TZOFFSETFROM:-0800
TZOFFSETTO:-0700
TZNAME:PDT
DTSTART:20260308T100000
END:DAYLIGHT
BEGIN:STANDARD
TZOFFSETFROM:-0700
TZOFFSETTO:-0800
TZNAME:PST
DTSTART:20261101T090000
END:STANDARD
END:VTIMEZONE
BEGIN:VEVENT
DTSTART;TZID=America/Los_Angeles:20251126T190000
DTEND;TZID=America/Los_Angeles:20251126T210000
DTSTAMP:20260423T113224
CREATED:20251028T023841Z
LAST-MODIFIED:20251028T023843Z
UID:10002076-1764183600-1764190800@cstpdx.com
SUMMARY:THE SNOW QUEEN (1986) (Church of Film)
DESCRIPTION:Based on the Hans Christian Andersen fairy tale\, THE SNOW QUEEN is a surreal and sinister film focusing on the young girl Kerttu’s journey to rescue her brother Kai from the evil Snow Queen. Kerttu travels through beautiful and hostile lands\, meeting various strange and threatening characters on the way – befriended and helped by some\, waylaid and trapped by others. \n\n\n\nA rarely seen landmark of Finnish cinema\, and a wintry fantasy epic!
URL:https://cstpdx.com/event/the-snow-queen-1986-church-of-film/
CATEGORIES:film
ATTACH;FMTTYPE=image/jpeg:https://cstpdx.com/wp-content/uploads/2025/10/Snow-Queen-Poster.jpg
END:VEVENT
END:VCALENDAR