BEGIN:VCALENDAR
VERSION:2.0
PRODID:-//Clinton Street Theater - ECPv6.15.20//NONSGML v1.0//EN
CALSCALE:GREGORIAN
METHOD:PUBLISH
X-ORIGINAL-URL:https://cstpdx.com
X-WR-CALDESC:Events for Clinton Street Theater
REFRESH-INTERVAL;VALUE=DURATION:PT1H
X-Robots-Tag:noindex
X-PUBLISHED-TTL:PT1H
BEGIN:VTIMEZONE
TZID:America/Los_Angeles
BEGIN:DAYLIGHT
TZOFFSETFROM:-0800
TZOFFSETTO:-0700
TZNAME:PDT
DTSTART:20240310T100000
END:DAYLIGHT
BEGIN:STANDARD
TZOFFSETFROM:-0700
TZOFFSETTO:-0800
TZNAME:PST
DTSTART:20241103T090000
END:STANDARD
BEGIN:DAYLIGHT
TZOFFSETFROM:-0800
TZOFFSETTO:-0700
TZNAME:PDT
DTSTART:20250309T100000
END:DAYLIGHT
BEGIN:STANDARD
TZOFFSETFROM:-0700
TZOFFSETTO:-0800
TZNAME:PST
DTSTART:20251102T090000
END:STANDARD
BEGIN:DAYLIGHT
TZOFFSETFROM:-0800
TZOFFSETTO:-0700
TZNAME:PDT
DTSTART:20260308T100000
END:DAYLIGHT
BEGIN:STANDARD
TZOFFSETFROM:-0700
TZOFFSETTO:-0800
TZNAME:PST
DTSTART:20261101T090000
END:STANDARD
END:VTIMEZONE
BEGIN:VEVENT
DTSTART;TZID=America/Los_Angeles:20251124T190000
DTEND;TZID=America/Los_Angeles:20251124T210000
DTSTAMP:20260423T113225
CREATED:20251023T162701Z
LAST-MODIFIED:20251023T162703Z
UID:10002057-1764010800-1764018000@cstpdx.com
SUMMARY:The Leyfarer's Chronicle: Behind the GM Screen
DESCRIPTION:Step behind the screen with the creators of The Leyfarer’s Chronicle\, TPK Brewing’s one-of-a-kind\, ongoing Dungeons & Dragons campaign. Over the past two years\, this epic story has evolved with the input of more than 200 players. Join Dana Ebert (TPK Creative Director\, Co-Founder and Val’Ruvina World Creator) and Law Johnson (TPK Games Manager and Lead Game Designer) as they recount the events of the first eight chapters\, reveal insights into their creative process\, and answer your questions. \n\n\n\nDoors open at 6:30 PM. After party at TPK Brewing.
URL:https://cstpdx.com/event/the-leyfarers-chronicle-behind-the-gm-screen/
CATEGORIES:comedy
ATTACH;FMTTYPE=image/png:https://cstpdx.com/wp-content/uploads/2025/10/behind-the-GM-screen-tall.png
END:VEVENT
END:VCALENDAR