BEGIN:VCALENDAR
VERSION:2.0
PRODID:-//Clinton Street Theater - ECPv6.15.20//NONSGML v1.0//EN
CALSCALE:GREGORIAN
METHOD:PUBLISH
X-ORIGINAL-URL:https://cstpdx.com
X-WR-CALDESC:Events for Clinton Street Theater
REFRESH-INTERVAL;VALUE=DURATION:PT1H
X-Robots-Tag:noindex
X-PUBLISHED-TTL:PT1H
BEGIN:VTIMEZONE
TZID:America/Los_Angeles
BEGIN:DAYLIGHT
TZOFFSETFROM:-0800
TZOFFSETTO:-0700
TZNAME:PDT
DTSTART:20240310T100000
END:DAYLIGHT
BEGIN:STANDARD
TZOFFSETFROM:-0700
TZOFFSETTO:-0800
TZNAME:PST
DTSTART:20241103T090000
END:STANDARD
BEGIN:DAYLIGHT
TZOFFSETFROM:-0800
TZOFFSETTO:-0700
TZNAME:PDT
DTSTART:20250309T100000
END:DAYLIGHT
BEGIN:STANDARD
TZOFFSETFROM:-0700
TZOFFSETTO:-0800
TZNAME:PST
DTSTART:20251102T090000
END:STANDARD
BEGIN:DAYLIGHT
TZOFFSETFROM:-0800
TZOFFSETTO:-0700
TZNAME:PDT
DTSTART:20260308T100000
END:DAYLIGHT
BEGIN:STANDARD
TZOFFSETFROM:-0700
TZOFFSETTO:-0800
TZNAME:PST
DTSTART:20261101T090000
END:STANDARD
END:VTIMEZONE
BEGIN:VEVENT
DTSTART;TZID=America/Los_Angeles:20251119T190000
DTEND;TZID=America/Los_Angeles:20251119T210000
DTSTAMP:20260423T113133
CREATED:20251028T023545Z
LAST-MODIFIED:20251028T023547Z
UID:10002075-1763578800-1763586000@cstpdx.com
SUMMARY:THE FEATHER FAIRY (1984) (Church of Film)
DESCRIPTION:Mother Winter saves a young boy from her cousin\, Death\, and raises him as her immortal child. However\, consumed by curiosity and desiring love\, the young boy renounces his immortality to become human again! Banned from filmmaking for a decade\, Juraj Jakubisko’s reputation grew as film fanatics whispered about a legendary “Slovakian Fellini.” Jakubisko proudly endorsed the mantle with a glorious return to form and film\, THE FEATHER FAIRY—even casting Fellini’s wife\, Giullieta Massina (La Strada\, Juliet of the Spirits) in the title role! \n\n\n\nA wondrous\, delirious adaptation of the Brother’s Grimm tale Mother Hulda\, Jakubisko’s camera drifts from earth to heaven and spins its way into beautiful carnivalesque folk montages in a joyous celebration of what it means to be human!
URL:https://cstpdx.com/event/the-feather-fairy-1984-church-of-film/
CATEGORIES:film
ATTACH;FMTTYPE=image/jpeg:https://cstpdx.com/wp-content/uploads/2025/10/perinbaba.jpg
END:VEVENT
END:VCALENDAR