BEGIN:VCALENDAR
VERSION:2.0
PRODID:-//Clinton Street Theater - ECPv6.15.20//NONSGML v1.0//EN
CALSCALE:GREGORIAN
METHOD:PUBLISH
X-WR-CALNAME:Clinton Street Theater
X-ORIGINAL-URL:https://cstpdx.com
X-WR-CALDESC:Events for Clinton Street Theater
REFRESH-INTERVAL;VALUE=DURATION:PT1H
X-Robots-Tag:noindex
X-PUBLISHED-TTL:PT1H
BEGIN:VTIMEZONE
TZID:America/Los_Angeles
BEGIN:DAYLIGHT
TZOFFSETFROM:-0800
TZOFFSETTO:-0700
TZNAME:PDT
DTSTART:20240310T100000
END:DAYLIGHT
BEGIN:STANDARD
TZOFFSETFROM:-0700
TZOFFSETTO:-0800
TZNAME:PST
DTSTART:20241103T090000
END:STANDARD
BEGIN:DAYLIGHT
TZOFFSETFROM:-0800
TZOFFSETTO:-0700
TZNAME:PDT
DTSTART:20250309T100000
END:DAYLIGHT
BEGIN:STANDARD
TZOFFSETFROM:-0700
TZOFFSETTO:-0800
TZNAME:PST
DTSTART:20251102T090000
END:STANDARD
BEGIN:DAYLIGHT
TZOFFSETFROM:-0800
TZOFFSETTO:-0700
TZNAME:PDT
DTSTART:20260308T100000
END:DAYLIGHT
BEGIN:STANDARD
TZOFFSETFROM:-0700
TZOFFSETTO:-0800
TZNAME:PST
DTSTART:20261101T090000
END:STANDARD
END:VTIMEZONE
BEGIN:VEVENT
DTSTART;TZID=America/Los_Angeles:20251117T190000
DTEND;TZID=America/Los_Angeles:20251117T210000
DTSTAMP:20260423T112805
CREATED:20251023T152926Z
LAST-MODIFIED:20251023T152929Z
UID:10002056-1763406000-1763413200@cstpdx.com
SUMMARY:Gaza: Journalists Under Fire
DESCRIPTION:Free screening hosted by the National Lawyer’s Guild. In the last two years\, over two hundred journalists have been killed in Gaza according to the CPJ. In this poignant new documentary\, Robert Greenwald follows the lives and deaths of Palestinian journalists Belal Jadallah\, Heba Al-Abadla\, and Ismail al-Ghoul\, who have all been killed by Israeli airstrikes.
URL:https://cstpdx.com/event/gaza-journalists-under-fire/
CATEGORIES:documentary
ATTACH;FMTTYPE=image/png:https://cstpdx.com/wp-content/uploads/2025/10/Gaza-Journalists-Under-Fire-Poster.png
END:VEVENT
END:VCALENDAR