BEGIN:VCALENDAR
VERSION:2.0
PRODID:-//Clinton Street Theater - ECPv6.15.20//NONSGML v1.0//EN
CALSCALE:GREGORIAN
METHOD:PUBLISH
X-WR-CALNAME:Clinton Street Theater
X-ORIGINAL-URL:https://cstpdx.com
X-WR-CALDESC:Events for Clinton Street Theater
REFRESH-INTERVAL;VALUE=DURATION:PT1H
X-Robots-Tag:noindex
X-PUBLISHED-TTL:PT1H
BEGIN:VTIMEZONE
TZID:America/Los_Angeles
BEGIN:DAYLIGHT
TZOFFSETFROM:-0800
TZOFFSETTO:-0700
TZNAME:PDT
DTSTART:20240310T100000
END:DAYLIGHT
BEGIN:STANDARD
TZOFFSETFROM:-0700
TZOFFSETTO:-0800
TZNAME:PST
DTSTART:20241103T090000
END:STANDARD
BEGIN:DAYLIGHT
TZOFFSETFROM:-0800
TZOFFSETTO:-0700
TZNAME:PDT
DTSTART:20250309T100000
END:DAYLIGHT
BEGIN:STANDARD
TZOFFSETFROM:-0700
TZOFFSETTO:-0800
TZNAME:PST
DTSTART:20251102T090000
END:STANDARD
BEGIN:DAYLIGHT
TZOFFSETFROM:-0800
TZOFFSETTO:-0700
TZNAME:PDT
DTSTART:20260308T100000
END:DAYLIGHT
BEGIN:STANDARD
TZOFFSETFROM:-0700
TZOFFSETTO:-0800
TZNAME:PST
DTSTART:20261101T090000
END:STANDARD
END:VTIMEZONE
BEGIN:VEVENT
DTSTART;TZID=America/Los_Angeles:20251116T190000
DTEND;TZID=America/Los_Angeles:20251116T210000
DTSTAMP:20260423T112803
CREATED:20251018T173445Z
LAST-MODIFIED:20251018T173447Z
UID:10002045-1763319600-1763326800@cstpdx.com
SUMMARY:Fly Fusion’s Trout Tour
DESCRIPTION:Presented by Scientific Anglers and Orvis\, in association with the International Fly Fishing Film Festival\, Fly Fusion’s Trout Tour is back for its second epic season. This year\, the tour highlights Fly Fishing Collaborative (FFC) and their flagship initiative building sustainable aquaponic farms — systems that combine fish farming (aquaculture) with vegetable cultivation (hydroponics).These farms provide a consistent source of protein and produce\, empowering safe homes\, orphanages and rural communities to feed themselves\, generate income and reduce vulnerability to trafficking. To date\, FFC has built aquaponic farms in more than 10 countries\, including Kenya\, Thailand\, the Dominican Republic and Belize. Each farm is tailored to the needs and climate of the community it serves.
URL:https://cstpdx.com/event/fly-fusions-trout-tour/
CATEGORIES:documentary
ATTACH;FMTTYPE=image/jpeg:https://cstpdx.com/wp-content/uploads/2025/10/trout-tour.jpg
END:VEVENT
END:VCALENDAR