BEGIN:VCALENDAR
VERSION:2.0
PRODID:-//Clinton Street Theater - ECPv6.15.20//NONSGML v1.0//EN
CALSCALE:GREGORIAN
METHOD:PUBLISH
X-ORIGINAL-URL:https://cstpdx.com
X-WR-CALDESC:Events for Clinton Street Theater
REFRESH-INTERVAL;VALUE=DURATION:PT1H
X-Robots-Tag:noindex
X-PUBLISHED-TTL:PT1H
BEGIN:VTIMEZONE
TZID:America/Los_Angeles
BEGIN:DAYLIGHT
TZOFFSETFROM:-0800
TZOFFSETTO:-0700
TZNAME:PDT
DTSTART:20240310T100000
END:DAYLIGHT
BEGIN:STANDARD
TZOFFSETFROM:-0700
TZOFFSETTO:-0800
TZNAME:PST
DTSTART:20241103T090000
END:STANDARD
BEGIN:DAYLIGHT
TZOFFSETFROM:-0800
TZOFFSETTO:-0700
TZNAME:PDT
DTSTART:20250309T100000
END:DAYLIGHT
BEGIN:STANDARD
TZOFFSETFROM:-0700
TZOFFSETTO:-0800
TZNAME:PST
DTSTART:20251102T090000
END:STANDARD
BEGIN:DAYLIGHT
TZOFFSETFROM:-0800
TZOFFSETTO:-0700
TZNAME:PDT
DTSTART:20260308T100000
END:DAYLIGHT
BEGIN:STANDARD
TZOFFSETFROM:-0700
TZOFFSETTO:-0800
TZNAME:PST
DTSTART:20261101T090000
END:STANDARD
END:VTIMEZONE
BEGIN:VEVENT
DTSTART;TZID=America/Los_Angeles:20251107T190000
DTEND;TZID=America/Los_Angeles:20251107T210000
DTSTAMP:20260423T113107
CREATED:20251018T163154Z
LAST-MODIFIED:20251022T021050Z
UID:10002044-1762542000-1762549200@cstpdx.com
SUMMARY:Tiger and Remaining Native
DESCRIPTION:Join us for a special screening of award-winning documentary films\, TIGER and REMAINING NATIVE. \n\n\n\nTIGER directed by Loren Waters\, highlights an Indigenous award-winning\, internationally acclaimed artist and elder\, Dana Tiger\, her family\, and the resurgence of the iconic Tiger t-shirt company. \n\n\n\nREMAINING NATIVE\, directed by Paige Bethmann\, is a coming-of-age documentary told from the perspective of Ku Stevens\, a 17-year-old Native American runner\, struggling to navigate his dream of becoming a collegiate athlete as the memory of his great-grandfather’s escape from an Indian boarding school begins to connect past\, present\, and future. \n\n\n\nLoren Waters\, Paige Bethmann\, Dana Tiger\, will be in attendance for a special Q&A moderated by Shyla Spicer\, President and CEO of Native Arts + Cultures Foundation (NACF)\, following the screenings. \n\n\n\nSCHEDULE \n\n\n\n6:30 PM – Doors Open \n\n\n\n7:00 PM – Showtime \n\n\n\n\n7:00 PM – TIGER\n\n\n\n7:15 PM – REMAINING NATIVE\n\n\n\n\n8:45 PM – Q&A
URL:https://cstpdx.com/event/tiger-and-remaining-native/
CATEGORIES:documentary
ATTACH;FMTTYPE=image/webp:https://cstpdx.com/wp-content/uploads/2025/10/Tiger-x-Remaining-Native-Clinton-Street-Humanatix-1.webp
END:VEVENT
END:VCALENDAR