BEGIN:VCALENDAR
VERSION:2.0
PRODID:-//Clinton Street Theater - ECPv6.15.20//NONSGML v1.0//EN
CALSCALE:GREGORIAN
METHOD:PUBLISH
X-ORIGINAL-URL:https://cstpdx.com
X-WR-CALDESC:Events for Clinton Street Theater
REFRESH-INTERVAL;VALUE=DURATION:PT1H
X-Robots-Tag:noindex
X-PUBLISHED-TTL:PT1H
BEGIN:VTIMEZONE
TZID:America/Los_Angeles
BEGIN:DAYLIGHT
TZOFFSETFROM:-0800
TZOFFSETTO:-0700
TZNAME:PDT
DTSTART:20240310T100000
END:DAYLIGHT
BEGIN:STANDARD
TZOFFSETFROM:-0700
TZOFFSETTO:-0800
TZNAME:PST
DTSTART:20241103T090000
END:STANDARD
BEGIN:DAYLIGHT
TZOFFSETFROM:-0800
TZOFFSETTO:-0700
TZNAME:PDT
DTSTART:20250309T100000
END:DAYLIGHT
BEGIN:STANDARD
TZOFFSETFROM:-0700
TZOFFSETTO:-0800
TZNAME:PST
DTSTART:20251102T090000
END:STANDARD
BEGIN:DAYLIGHT
TZOFFSETFROM:-0800
TZOFFSETTO:-0700
TZNAME:PDT
DTSTART:20260308T100000
END:DAYLIGHT
BEGIN:STANDARD
TZOFFSETFROM:-0700
TZOFFSETTO:-0800
TZNAME:PST
DTSTART:20261101T090000
END:STANDARD
END:VTIMEZONE
BEGIN:VEVENT
DTSTART;TZID=America/Los_Angeles:20251106T190000
DTEND;TZID=America/Los_Angeles:20251106T210000
DTSTAMP:20260423T113107
CREATED:20250927T051736Z
LAST-MODIFIED:20251026T183204Z
UID:10002018-1762455600-1762462800@cstpdx.com
SUMMARY:D(E)AD
DESCRIPTION:SOLD OUT \n\n\n\n\nTillie (Isabella Roland)\, a floundering young woman and her charismatic\, alcoholic father (Craig Bierko)\, struggle to resolve their fractured relationship in the weirdest possible way: after he dies\, his ghost appears in mirrors to haunt everyone in the family but Tillie. Tillie’s sister\, Violet (Vic Michaelis)\, mother (Claudia Lonow)\, grandparents (Mark Lonow and Joanne Astrow)\, stepfather (Jonathan Schmock)\, and even Violet’s free-spirited baby daddy (Nick Marini)\, must do everything they can to make Tillie see her father… even employing a very reform rabbi (Eddie Peppitone) to exorcize him… or else they will be plagued by this ghost forever. Written by Isabella Roland. Directed by Claudia Lonow. \n\n\n\n    \n        Director: Claudia Lonow\n        Year: 2025\n        Country: USA\n        Runtime: 100 minutes
URL:https://cstpdx.com/event/dead-3/
CATEGORIES:film
ATTACH;FMTTYPE=image/png:https://cstpdx.com/wp-content/uploads/2025/08/dead-movie-poster.png
END:VEVENT
END:VCALENDAR