BEGIN:VCALENDAR
VERSION:2.0
PRODID:-//Clinton Street Theater - ECPv6.15.20//NONSGML v1.0//EN
CALSCALE:GREGORIAN
METHOD:PUBLISH
X-WR-CALNAME:Clinton Street Theater
X-ORIGINAL-URL:https://cstpdx.com
X-WR-CALDESC:Events for Clinton Street Theater
REFRESH-INTERVAL;VALUE=DURATION:PT1H
X-Robots-Tag:noindex
X-PUBLISHED-TTL:PT1H
BEGIN:VTIMEZONE
TZID:America/Los_Angeles
BEGIN:DAYLIGHT
TZOFFSETFROM:-0800
TZOFFSETTO:-0700
TZNAME:PDT
DTSTART:20240310T100000
END:DAYLIGHT
BEGIN:STANDARD
TZOFFSETFROM:-0700
TZOFFSETTO:-0800
TZNAME:PST
DTSTART:20241103T090000
END:STANDARD
BEGIN:DAYLIGHT
TZOFFSETFROM:-0800
TZOFFSETTO:-0700
TZNAME:PDT
DTSTART:20250309T100000
END:DAYLIGHT
BEGIN:STANDARD
TZOFFSETFROM:-0700
TZOFFSETTO:-0800
TZNAME:PST
DTSTART:20251102T090000
END:STANDARD
BEGIN:DAYLIGHT
TZOFFSETFROM:-0800
TZOFFSETTO:-0700
TZNAME:PDT
DTSTART:20260308T100000
END:DAYLIGHT
BEGIN:STANDARD
TZOFFSETFROM:-0700
TZOFFSETTO:-0800
TZNAME:PST
DTSTART:20261101T090000
END:STANDARD
END:VTIMEZONE
BEGIN:VEVENT
DTSTART;TZID=America/Los_Angeles:20251105T190000
DTEND;TZID=America/Los_Angeles:20251105T210000
DTSTAMP:20260423T112804
CREATED:20251028T023118Z
LAST-MODIFIED:20251028T023120Z
UID:10002073-1762369200-1762376400@cstpdx.com
SUMMARY:THE MANNEQUIN IN RED (1958) (Church of Film)
DESCRIPTION:The Hillman Detective Agency is hot on the trail of a blackmailing model\, but the case takes a twist when she ends up with a knife in her back. In fact\, there are a lot of weird happenings and strange murders going on at La Femme fashion house\, which may have something to do with its imperious matron and her fortune. \n\n\n\nArne Mattsson’s THE MANNEQUIN IN RED seems on paper like a conventional thriller\, but its garish\, over the top art production\, ostentatious camerawork\, homoerotic subtexts and creepy thrills went way beyond its trappings. So far\, in fact\, that it won the admiration of Alfred Hitchcock\, and may have been the model for Mario Bava in creating the giallo film.
URL:https://cstpdx.com/event/the-mannequin-in-red-1958-church-of-film/
CATEGORIES:film
ATTACH;FMTTYPE=image/jpeg:https://cstpdx.com/wp-content/uploads/2022/10/mannequin2.jpg
END:VEVENT
END:VCALENDAR