BEGIN:VCALENDAR
VERSION:2.0
PRODID:-//Clinton Street Theater - ECPv6.15.20//NONSGML v1.0//EN
CALSCALE:GREGORIAN
METHOD:PUBLISH
X-ORIGINAL-URL:https://cstpdx.com
X-WR-CALDESC:Events for Clinton Street Theater
REFRESH-INTERVAL;VALUE=DURATION:PT1H
X-Robots-Tag:noindex
X-PUBLISHED-TTL:PT1H
BEGIN:VTIMEZONE
TZID:America/Los_Angeles
BEGIN:DAYLIGHT
TZOFFSETFROM:-0800
TZOFFSETTO:-0700
TZNAME:PDT
DTSTART:20240310T100000
END:DAYLIGHT
BEGIN:STANDARD
TZOFFSETFROM:-0700
TZOFFSETTO:-0800
TZNAME:PST
DTSTART:20241103T090000
END:STANDARD
BEGIN:DAYLIGHT
TZOFFSETFROM:-0800
TZOFFSETTO:-0700
TZNAME:PDT
DTSTART:20250309T100000
END:DAYLIGHT
BEGIN:STANDARD
TZOFFSETFROM:-0700
TZOFFSETTO:-0800
TZNAME:PST
DTSTART:20251102T090000
END:STANDARD
BEGIN:DAYLIGHT
TZOFFSETFROM:-0800
TZOFFSETTO:-0700
TZNAME:PDT
DTSTART:20260308T100000
END:DAYLIGHT
BEGIN:STANDARD
TZOFFSETFROM:-0700
TZOFFSETTO:-0800
TZNAME:PST
DTSTART:20261101T090000
END:STANDARD
END:VTIMEZONE
BEGIN:VEVENT
DTSTART;TZID=America/Los_Angeles:20251104T190000
DTEND;TZID=America/Los_Angeles:20251104T210000
DTSTAMP:20260423T113133
CREATED:20251009T161137Z
LAST-MODIFIED:20251030T013904Z
UID:10002032-1762282800-1762290000@cstpdx.com
SUMMARY:K2uesdays: Sage Kotsenburg's Eternal Descent
DESCRIPTION:Tickets available at the door \n\n\n\n\nFundraiser for Snowday’s Foundation; raffle ticket included! \n\n\n\nNorth American premier of Olympic gold medalist Sage Kotsenburg’s ETERNAL DESCENT.
URL:https://cstpdx.com/event/k2uesdays-sage-kotsenburgs-enternal-descent/
ATTACH;FMTTYPE=image/png:https://cstpdx.com/wp-content/uploads/2025/10/K2uesday-1-Eternal-Descent-11_04_25-8.5x11.png
END:VEVENT
END:VCALENDAR