BEGIN:VCALENDAR
VERSION:2.0
PRODID:-//Clinton Street Theater - ECPv6.15.20//NONSGML v1.0//EN
CALSCALE:GREGORIAN
METHOD:PUBLISH
X-ORIGINAL-URL:https://cstpdx.com
X-WR-CALDESC:Events for Clinton Street Theater
REFRESH-INTERVAL;VALUE=DURATION:PT1H
X-Robots-Tag:noindex
X-PUBLISHED-TTL:PT1H
BEGIN:VTIMEZONE
TZID:America/Los_Angeles
BEGIN:DAYLIGHT
TZOFFSETFROM:-0800
TZOFFSETTO:-0700
TZNAME:PDT
DTSTART:20240310T100000
END:DAYLIGHT
BEGIN:STANDARD
TZOFFSETFROM:-0700
TZOFFSETTO:-0800
TZNAME:PST
DTSTART:20241103T090000
END:STANDARD
BEGIN:DAYLIGHT
TZOFFSETFROM:-0800
TZOFFSETTO:-0700
TZNAME:PDT
DTSTART:20250309T100000
END:DAYLIGHT
BEGIN:STANDARD
TZOFFSETFROM:-0700
TZOFFSETTO:-0800
TZNAME:PST
DTSTART:20251102T090000
END:STANDARD
BEGIN:DAYLIGHT
TZOFFSETFROM:-0800
TZOFFSETTO:-0700
TZNAME:PDT
DTSTART:20260308T100000
END:DAYLIGHT
BEGIN:STANDARD
TZOFFSETFROM:-0700
TZOFFSETTO:-0800
TZNAME:PST
DTSTART:20261101T090000
END:STANDARD
END:VTIMEZONE
BEGIN:VEVENT
DTSTART;TZID=America/Los_Angeles:20251029T190000
DTEND;TZID=America/Los_Angeles:20251029T210000
DTSTAMP:20260423T113107
CREATED:20250928T010621Z
LAST-MODIFIED:20250928T010622Z
UID:10002022-1761764400-1761771600@cstpdx.com
SUMMARY:THE BIRTH OF HORROR: A Scary Collection of Early Film Horror (Church of Film)
DESCRIPTION:A very special presentation! Born out of novelties\, toys\, and camera tricks\, early filmmakers formulated the first horror cinema in the nickelodeons. THE BIRTH OF HORROR presents a global survey of monsters\, goblins and things that go bump in the night\, from the first screen conception of Frankenstein\, to early home invasions and escaped psychos!  \n\n\n\nThese films are presented with atmospheric original soundtracks by Seattle’s Hexafoils—meticulously constructed horrorscapes crafted from synthesizers and foley design. A project years in the making!
URL:https://cstpdx.com/event/the-birth-of-horror-a-scary-collection-of-early-film-horror-church-of-film/
CATEGORIES:horror
ATTACH;FMTTYPE=image/webp:https://cstpdx.com/wp-content/uploads/2025/09/the-birth-of-horror.webp
END:VEVENT
END:VCALENDAR