BEGIN:VCALENDAR
VERSION:2.0
PRODID:-//Clinton Street Theater - ECPv6.15.20//NONSGML v1.0//EN
CALSCALE:GREGORIAN
METHOD:PUBLISH
X-WR-CALNAME:Clinton Street Theater
X-ORIGINAL-URL:https://cstpdx.com
X-WR-CALDESC:Events for Clinton Street Theater
REFRESH-INTERVAL;VALUE=DURATION:PT1H
X-Robots-Tag:noindex
X-PUBLISHED-TTL:PT1H
BEGIN:VTIMEZONE
TZID:America/Los_Angeles
BEGIN:DAYLIGHT
TZOFFSETFROM:-0800
TZOFFSETTO:-0700
TZNAME:PDT
DTSTART:20240310T100000
END:DAYLIGHT
BEGIN:STANDARD
TZOFFSETFROM:-0700
TZOFFSETTO:-0800
TZNAME:PST
DTSTART:20241103T090000
END:STANDARD
BEGIN:DAYLIGHT
TZOFFSETFROM:-0800
TZOFFSETTO:-0700
TZNAME:PDT
DTSTART:20250309T100000
END:DAYLIGHT
BEGIN:STANDARD
TZOFFSETFROM:-0700
TZOFFSETTO:-0800
TZNAME:PST
DTSTART:20251102T090000
END:STANDARD
BEGIN:DAYLIGHT
TZOFFSETFROM:-0800
TZOFFSETTO:-0700
TZNAME:PDT
DTSTART:20260308T100000
END:DAYLIGHT
BEGIN:STANDARD
TZOFFSETFROM:-0700
TZOFFSETTO:-0800
TZNAME:PST
DTSTART:20261101T090000
END:STANDARD
END:VTIMEZONE
BEGIN:VEVENT
DTSTART;TZID=America/Los_Angeles:20251024T190000
DTEND;TZID=America/Los_Angeles:20251024T210000
DTSTAMP:20260423T130552
CREATED:20250718T215131Z
LAST-MODIFIED:20251020T192218Z
UID:10001929-1761332400-1761339600@cstpdx.com
SUMMARY:Frankenhooker
DESCRIPTION:SOLD OUT \n\n\n\n\nA medical student sets out to recreate his decapitated fiancée by building her a new body made of Manhattan street prostitutes. Gory\, hilarious\, and the definition of everything bad taste\, Frank Henenlotter out does himself in this truly outrageous film. On its release\, Bill Murray was quoted as saying “If you see one movie this year\, it should be Frankenhooker.” \n\n\n\n    \n        Director: Frank Henenlotter\n        Year: 1990\n        Country: USA\n        Runtime: 84 minutes
URL:https://cstpdx.com/event/frankenhooker-4/
ATTACH;FMTTYPE=image/webp:https://cstpdx.com/wp-content/uploads/2022/08/frankenhooker.webp
END:VEVENT
END:VCALENDAR