BEGIN:VCALENDAR
VERSION:2.0
PRODID:-//Clinton Street Theater - ECPv6.15.20//NONSGML v1.0//EN
CALSCALE:GREGORIAN
METHOD:PUBLISH
X-ORIGINAL-URL:https://cstpdx.com
X-WR-CALDESC:Events for Clinton Street Theater
REFRESH-INTERVAL;VALUE=DURATION:PT1H
X-Robots-Tag:noindex
X-PUBLISHED-TTL:PT1H
BEGIN:VTIMEZONE
TZID:America/Los_Angeles
BEGIN:DAYLIGHT
TZOFFSETFROM:-0800
TZOFFSETTO:-0700
TZNAME:PDT
DTSTART:20240310T100000
END:DAYLIGHT
BEGIN:STANDARD
TZOFFSETFROM:-0700
TZOFFSETTO:-0800
TZNAME:PST
DTSTART:20241103T090000
END:STANDARD
BEGIN:DAYLIGHT
TZOFFSETFROM:-0800
TZOFFSETTO:-0700
TZNAME:PDT
DTSTART:20250309T100000
END:DAYLIGHT
BEGIN:STANDARD
TZOFFSETFROM:-0700
TZOFFSETTO:-0800
TZNAME:PST
DTSTART:20251102T090000
END:STANDARD
BEGIN:DAYLIGHT
TZOFFSETFROM:-0800
TZOFFSETTO:-0700
TZNAME:PDT
DTSTART:20260308T100000
END:DAYLIGHT
BEGIN:STANDARD
TZOFFSETFROM:-0700
TZOFFSETTO:-0800
TZNAME:PST
DTSTART:20261101T090000
END:STANDARD
END:VTIMEZONE
BEGIN:VEVENT
DTSTART;TZID=America/Los_Angeles:20251019T130000
DTEND;TZID=America/Los_Angeles:20251019T150000
DTSTAMP:20260423T130926
CREATED:20250830T194207Z
LAST-MODIFIED:20250830T195431Z
UID:10001985-1760878800-1760886000@cstpdx.com
SUMMARY:Evil Puddle
DESCRIPTION:When evil\, deadly water starts pooling around their feet\, the citizens of Medialight must figure out a way stay alive until it evaporates. \n\n\n\n    \n        Director: Charles Roxburgh\n        Year: 2025\n        Country: USA\n        Runtime: 90 minutes
URL:https://cstpdx.com/event/evil-puddle/
ATTACH;FMTTYPE=image/jpeg:https://cstpdx.com/wp-content/uploads/2025/08/EvilPuddle_OfficialPoster-scaled.jpg
END:VEVENT
BEGIN:VEVENT
DTSTART;TZID=America/Los_Angeles:20251019T180000
DTEND;TZID=America/Los_Angeles:20251019T210000
DTSTAMP:20260423T130926
CREATED:20251012T010637Z
LAST-MODIFIED:20251012T010732Z
UID:10002037-1760896800-1760907600@cstpdx.com
SUMMARY:Destiny Smokez and The Spirit of Dahlia Kash D&D Productions Presents: MELANGE A QUEER AND P.O.C. VARIETY SHOW
DESCRIPTION:21+ \n\n\n\n\nIT’S OCTOBER!! And if there’s one thing that’s true about Melange\, it’s that we love a creepy moment!! We’ve got a spine-chilling show lined up for you\, with some truly ghastly performances! Come celebrate our favorite holiday with us!! It’s an open-themed show\, but we definitely brought the spoopy boos out to play!!! Join us !!!! \n\n\n\nDon’t miss out on this epic event! Mark your calendars and get ready for some fun! Our talented cast is ready to entertain\, enlighten\, and excite you! Please celebrate with us at our home venue\, THE CLINTON STREET THEATER!!!  \n\n\n\nPrepare to be amazed by our vibrant cast\, friendly crows\, and interactive production! Whether you’re a seasoned fan or new to the scene\, Melange is perfect for anyone looking for a night of pure entertainment! \n\n\n\nOur talented cast is ready to entertain\, enlighten\, and excite you! DR@G! BURLE$QUE! MUSIC! CIRCUS! RAFFLES! AND SO MUCH MORE! \n\n\n\nHosted by:  \n\n\n\n\nDESTINY SMOKEZ\n\n\n\n\nActs From: \n\n\n\n\nAllah verga\n\n\n\nGila Suspectum\n\n\n\nHoney dew la roux\n\n\n\nLo Satanica\n\n\n\nSophora \n\n\n\n\nCrew: \n\n\n\n\nMISS NICOLE\n\n\n\nLANA MONTRESE\n\n\n\nMARQUII DE SADE
URL:https://cstpdx.com/event/destiny-smokez-and-the-spirit-of-dahlia-kash-dd-productions-presents-melange-a-queer-and-p-o-c-variety-show/
CATEGORIES:drag
ATTACH;FMTTYPE=image/jpeg:https://cstpdx.com/wp-content/uploads/2025/10/IMG_0148-1.jpeg
END:VEVENT
END:VCALENDAR