BEGIN:VCALENDAR
VERSION:2.0
PRODID:-//Clinton Street Theater - ECPv6.15.20//NONSGML v1.0//EN
CALSCALE:GREGORIAN
METHOD:PUBLISH
X-WR-CALNAME:Clinton Street Theater
X-ORIGINAL-URL:https://cstpdx.com
X-WR-CALDESC:Events for Clinton Street Theater
REFRESH-INTERVAL;VALUE=DURATION:PT1H
X-Robots-Tag:noindex
X-PUBLISHED-TTL:PT1H
BEGIN:VTIMEZONE
TZID:America/Los_Angeles
BEGIN:DAYLIGHT
TZOFFSETFROM:-0800
TZOFFSETTO:-0700
TZNAME:PDT
DTSTART:20240310T100000
END:DAYLIGHT
BEGIN:STANDARD
TZOFFSETFROM:-0700
TZOFFSETTO:-0800
TZNAME:PST
DTSTART:20241103T090000
END:STANDARD
BEGIN:DAYLIGHT
TZOFFSETFROM:-0800
TZOFFSETTO:-0700
TZNAME:PDT
DTSTART:20250309T100000
END:DAYLIGHT
BEGIN:STANDARD
TZOFFSETFROM:-0700
TZOFFSETTO:-0800
TZNAME:PST
DTSTART:20251102T090000
END:STANDARD
BEGIN:DAYLIGHT
TZOFFSETFROM:-0800
TZOFFSETTO:-0700
TZNAME:PDT
DTSTART:20260308T100000
END:DAYLIGHT
BEGIN:STANDARD
TZOFFSETFROM:-0700
TZOFFSETTO:-0800
TZNAME:PST
DTSTART:20261101T090000
END:STANDARD
END:VTIMEZONE
BEGIN:VEVENT
DTSTART;TZID=America/Los_Angeles:20251016T190000
DTEND;TZID=America/Los_Angeles:20251016T210000
DTSTAMP:20260423T130553
CREATED:20250911T200118Z
LAST-MODIFIED:20250911T200121Z
UID:10002001-1760641200-1760648400@cstpdx.com
SUMMARY:Sisters
DESCRIPTION:Margot Kidder is Danielle\, a beautiful model separated from her Siamese twin\, Dominique. When a hotshot reporter (Jennifer Salt) suspects Dominique of a brutal murder\, she becomes dangerously ensnared in the sisters’ insidious sibling bond. A scary and stylish paean to female destructiveness\, De Palma’s first foray into horror voyeurism is a stunning amalgam of split-screen effects\, bloody birthday cakes\, and a chilling score by frequent Hitchcock collaborator Bernard Herrmann. \n\n\n\n    \n        Director: Brian De Palma\n        Year: 1972\n        Country: USA\n        Runtime: 92 minutes
URL:https://cstpdx.com/event/sisters/
ATTACH;FMTTYPE=image/jpeg:https://cstpdx.com/wp-content/uploads/2025/09/sisters-poster-scaled.jpg
END:VEVENT
END:VCALENDAR