BEGIN:VCALENDAR
VERSION:2.0
PRODID:-//Clinton Street Theater - ECPv6.15.20//NONSGML v1.0//EN
CALSCALE:GREGORIAN
METHOD:PUBLISH
X-WR-CALNAME:Clinton Street Theater
X-ORIGINAL-URL:https://cstpdx.com
X-WR-CALDESC:Events for Clinton Street Theater
REFRESH-INTERVAL;VALUE=DURATION:PT1H
X-Robots-Tag:noindex
X-PUBLISHED-TTL:PT1H
BEGIN:VTIMEZONE
TZID:America/Los_Angeles
BEGIN:DAYLIGHT
TZOFFSETFROM:-0800
TZOFFSETTO:-0700
TZNAME:PDT
DTSTART:20240310T100000
END:DAYLIGHT
BEGIN:STANDARD
TZOFFSETFROM:-0700
TZOFFSETTO:-0800
TZNAME:PST
DTSTART:20241103T090000
END:STANDARD
BEGIN:DAYLIGHT
TZOFFSETFROM:-0800
TZOFFSETTO:-0700
TZNAME:PDT
DTSTART:20250309T100000
END:DAYLIGHT
BEGIN:STANDARD
TZOFFSETFROM:-0700
TZOFFSETTO:-0800
TZNAME:PST
DTSTART:20251102T090000
END:STANDARD
BEGIN:DAYLIGHT
TZOFFSETFROM:-0800
TZOFFSETTO:-0700
TZNAME:PDT
DTSTART:20260308T100000
END:DAYLIGHT
BEGIN:STANDARD
TZOFFSETFROM:-0700
TZOFFSETTO:-0800
TZNAME:PST
DTSTART:20261101T090000
END:STANDARD
END:VTIMEZONE
BEGIN:VEVENT
DTSTART;TZID=America/Los_Angeles:20251015T190000
DTEND;TZID=America/Los_Angeles:20251015T210000
DTSTAMP:20260423T130609
CREATED:20250928T010441Z
LAST-MODIFIED:20250928T010443Z
UID:10002021-1760554800-1760562000@cstpdx.com
SUMMARY:SPIDER (1992) (Church of Film)
DESCRIPTION:Vita agrees to model as the Virgin Mary for a sinister avant-garde painter. Under his creepy gaze\, her subconscious bursts forth all sorts of visions and horrors\, including terrifying visions of spiders! \n\n\n\nSPIDER is a sumptuously surreal\, highly stylized Latvian monster movie\, with incredible practical effects\, tons of goo\, and all weirdly dressed up as a psychosexual art film. Bizarre\, impressive and disturbing on an epic scale!  \n\n\n\n(CW Sexual Violence)
URL:https://cstpdx.com/event/spider-1992-church-of-film/
CATEGORIES:horror
ATTACH;FMTTYPE=image/webp:https://cstpdx.com/wp-content/uploads/2025/09/spider.webp
END:VEVENT
END:VCALENDAR