BEGIN:VCALENDAR
VERSION:2.0
PRODID:-//Clinton Street Theater - ECPv6.15.20//NONSGML v1.0//EN
CALSCALE:GREGORIAN
METHOD:PUBLISH
X-WR-CALNAME:Clinton Street Theater
X-ORIGINAL-URL:https://cstpdx.com
X-WR-CALDESC:Events for Clinton Street Theater
REFRESH-INTERVAL;VALUE=DURATION:PT1H
X-Robots-Tag:noindex
X-PUBLISHED-TTL:PT1H
BEGIN:VTIMEZONE
TZID:America/Los_Angeles
BEGIN:DAYLIGHT
TZOFFSETFROM:-0800
TZOFFSETTO:-0700
TZNAME:PDT
DTSTART:20240310T100000
END:DAYLIGHT
BEGIN:STANDARD
TZOFFSETFROM:-0700
TZOFFSETTO:-0800
TZNAME:PST
DTSTART:20241103T090000
END:STANDARD
BEGIN:DAYLIGHT
TZOFFSETFROM:-0800
TZOFFSETTO:-0700
TZNAME:PDT
DTSTART:20250309T100000
END:DAYLIGHT
BEGIN:STANDARD
TZOFFSETFROM:-0700
TZOFFSETTO:-0800
TZNAME:PST
DTSTART:20251102T090000
END:STANDARD
BEGIN:DAYLIGHT
TZOFFSETFROM:-0800
TZOFFSETTO:-0700
TZNAME:PDT
DTSTART:20260308T100000
END:DAYLIGHT
BEGIN:STANDARD
TZOFFSETFROM:-0700
TZOFFSETTO:-0800
TZNAME:PST
DTSTART:20261101T090000
END:STANDARD
END:VTIMEZONE
BEGIN:VEVENT
DTSTART;TZID=America/Los_Angeles:20251010T180000
DTEND;TZID=America/Los_Angeles:20251010T220000
DTSTAMP:20260423T130552
CREATED:20250904T161808Z
LAST-MODIFIED:20250904T161811Z
UID:10001996-1760119200-1760133600@cstpdx.com
SUMMARY:A Nightmare on Elm Street 4: The Dream Master with Tuesday Knight
DESCRIPTION:Special screening with actress Tuesday Knight (Kristen Parker)! \n\n\n\nFreddy Krueger returns once again to terrorize the dreams of the remaining Dream Warriors\, as well as those of a young woman who may be able to defeat him for good. \n\n\n\nDoors open at 5:00 PM. Tuesday Knight will be signing autographs and taking photos for an additional fee from 6:00 PM – 7:30 PM. Q&A from 7:30 PM – 8:00 PM. Film at 8:00 PM. \n\n\n\nTuesday Knight will be offering autographs and photographs at this event only for ticket holders. He will be selling those directly at the screenings and they will not be available for purchase in advance online. \n\n\n\nPlease note: We cannot provide any refunds or exchanges. All ticket sales are final. Bag check required at the door. \n\n\n\n    \n        Director: Renny Harlin\n        Year: 1988\n        Country: USA\n        Runtime: 93 minutes
URL:https://cstpdx.com/event/a-nightmare-on-elm-street-4-the-dream-master-with-tuesday-knight/
ATTACH;FMTTYPE=image/jpeg:https://cstpdx.com/wp-content/uploads/2025/09/nightmare-elm-st-4.jpg
END:VEVENT
END:VCALENDAR