BEGIN:VCALENDAR
VERSION:2.0
PRODID:-//Clinton Street Theater - ECPv6.15.20//NONSGML v1.0//EN
CALSCALE:GREGORIAN
METHOD:PUBLISH
X-ORIGINAL-URL:https://cstpdx.com
X-WR-CALDESC:Events for Clinton Street Theater
REFRESH-INTERVAL;VALUE=DURATION:PT1H
X-Robots-Tag:noindex
X-PUBLISHED-TTL:PT1H
BEGIN:VTIMEZONE
TZID:America/Los_Angeles
BEGIN:DAYLIGHT
TZOFFSETFROM:-0800
TZOFFSETTO:-0700
TZNAME:PDT
DTSTART:20240310T100000
END:DAYLIGHT
BEGIN:STANDARD
TZOFFSETFROM:-0700
TZOFFSETTO:-0800
TZNAME:PST
DTSTART:20241103T090000
END:STANDARD
BEGIN:DAYLIGHT
TZOFFSETFROM:-0800
TZOFFSETTO:-0700
TZNAME:PDT
DTSTART:20250309T100000
END:DAYLIGHT
BEGIN:STANDARD
TZOFFSETFROM:-0700
TZOFFSETTO:-0800
TZNAME:PST
DTSTART:20251102T090000
END:STANDARD
BEGIN:DAYLIGHT
TZOFFSETFROM:-0800
TZOFFSETTO:-0700
TZNAME:PDT
DTSTART:20260308T100000
END:DAYLIGHT
BEGIN:STANDARD
TZOFFSETFROM:-0700
TZOFFSETTO:-0800
TZNAME:PST
DTSTART:20261101T090000
END:STANDARD
END:VTIMEZONE
BEGIN:VEVENT
DTSTART;TZID=America/Los_Angeles:20251009T180000
DTEND;TZID=America/Los_Angeles:20251009T220000
DTSTAMP:20260423T130916
CREATED:20250904T161532Z
LAST-MODIFIED:20250904T161536Z
UID:10001995-1760032800-1760047200@cstpdx.com
SUMMARY:The Return of the Living Dead with Allan Trautman
DESCRIPTION:Special screening with actor and puppeteer Allan Trautman (Tarman Zombie)! \n\n\n\nWhen two bumbling employees at a medical supply warehouse accidentally release a deadly gas into the air\, the vapors cause the dead to rise again as zombies.  \n\n\n\nDoors open at 5:00 PM. Allan Trautman will be signing autographs and taking photos for an additional fee from 6:00 PM – 7:30 PM. Q&A from 7:30 PM – 8:00 PM. Film at 8:00 PM. \n\n\n\nAllan Trautman will be offering autographs and photographs at this event only for ticket holders. He will be selling those directly at the screenings and they will not be available for purchase in advance online. \n\n\n\nPlease note: We cannot provide any refunds or exchanges. All ticket sales are final. Bag check required at the door. \n\n\n\n    \n        Director: Dan O’Bannon\n        Year: 1985\n        Country: USA\n        Runtime: 91 minutes
URL:https://cstpdx.com/event/the-return-of-the-living-dead-with-allan-trautman/
ATTACH;FMTTYPE=image/jpeg:https://cstpdx.com/wp-content/uploads/2025/09/The-Return-of-the-Living-Dead.jpg
END:VEVENT
END:VCALENDAR