BEGIN:VCALENDAR
VERSION:2.0
PRODID:-//Clinton Street Theater - ECPv6.15.20//NONSGML v1.0//EN
CALSCALE:GREGORIAN
METHOD:PUBLISH
X-ORIGINAL-URL:https://cstpdx.com
X-WR-CALDESC:Events for Clinton Street Theater
REFRESH-INTERVAL;VALUE=DURATION:PT1H
X-Robots-Tag:noindex
X-PUBLISHED-TTL:PT1H
BEGIN:VTIMEZONE
TZID:America/Los_Angeles
BEGIN:DAYLIGHT
TZOFFSETFROM:-0800
TZOFFSETTO:-0700
TZNAME:PDT
DTSTART:20240310T100000
END:DAYLIGHT
BEGIN:STANDARD
TZOFFSETFROM:-0700
TZOFFSETTO:-0800
TZNAME:PST
DTSTART:20241103T090000
END:STANDARD
BEGIN:DAYLIGHT
TZOFFSETFROM:-0800
TZOFFSETTO:-0700
TZNAME:PDT
DTSTART:20250309T100000
END:DAYLIGHT
BEGIN:STANDARD
TZOFFSETFROM:-0700
TZOFFSETTO:-0800
TZNAME:PST
DTSTART:20251102T090000
END:STANDARD
BEGIN:DAYLIGHT
TZOFFSETFROM:-0800
TZOFFSETTO:-0700
TZNAME:PDT
DTSTART:20260308T100000
END:DAYLIGHT
BEGIN:STANDARD
TZOFFSETFROM:-0700
TZOFFSETTO:-0800
TZNAME:PST
DTSTART:20261101T090000
END:STANDARD
END:VTIMEZONE
BEGIN:VEVENT
DTSTART;TZID=America/Los_Angeles:20251008T190000
DTEND;TZID=America/Los_Angeles:20251008T210000
DTSTAMP:20260423T130927
CREATED:20250928T010312Z
LAST-MODIFIED:20250928T010314Z
UID:10002020-1759950000-1759957200@cstpdx.com
SUMMARY:MISTER DESIGNER (1989) (Church of Film)
DESCRIPTION:Platon Andreyevich\, an ingenious artist and designer\, had at one time led the avant-garde with a treatise on how the artist might perfect the imperfect creations of the gods. Now he seems to be slipping into madness. He is obsessed with using models to create lifelike dolls\, and haunted by strange memories. One day he is approached by a wealthy client to design a house for his wife. But the man’s wife seems strangely familiar—is she one of Platon’s former models\, or one of his dolls? \n\n\n\nOleg Teptsov’s MISTER DESIGNER is a lavish gothic tale based on a story by Alexander Grin (Morgiana) that builds towards a spiraling\, hallucinatory climax of horror and psychedelic lunacy. Also\, the soundtrack is a killer!
URL:https://cstpdx.com/event/mister-designer-1989-church-of-film/
CATEGORIES:horror
ATTACH;FMTTYPE=image/jpeg:https://cstpdx.com/wp-content/uploads/2025/09/mister-designer.jpeg
END:VEVENT
END:VCALENDAR