BEGIN:VCALENDAR
VERSION:2.0
PRODID:-//Clinton Street Theater - ECPv6.15.20//NONSGML v1.0//EN
CALSCALE:GREGORIAN
METHOD:PUBLISH
X-ORIGINAL-URL:https://cstpdx.com
X-WR-CALDESC:Events for Clinton Street Theater
REFRESH-INTERVAL;VALUE=DURATION:PT1H
X-Robots-Tag:noindex
X-PUBLISHED-TTL:PT1H
BEGIN:VTIMEZONE
TZID:America/Los_Angeles
BEGIN:DAYLIGHT
TZOFFSETFROM:-0800
TZOFFSETTO:-0700
TZNAME:PDT
DTSTART:20240310T100000
END:DAYLIGHT
BEGIN:STANDARD
TZOFFSETFROM:-0700
TZOFFSETTO:-0800
TZNAME:PST
DTSTART:20241103T090000
END:STANDARD
BEGIN:DAYLIGHT
TZOFFSETFROM:-0800
TZOFFSETTO:-0700
TZNAME:PDT
DTSTART:20250309T100000
END:DAYLIGHT
BEGIN:STANDARD
TZOFFSETFROM:-0700
TZOFFSETTO:-0800
TZNAME:PST
DTSTART:20251102T090000
END:STANDARD
BEGIN:DAYLIGHT
TZOFFSETFROM:-0800
TZOFFSETTO:-0700
TZNAME:PDT
DTSTART:20260308T100000
END:DAYLIGHT
BEGIN:STANDARD
TZOFFSETFROM:-0700
TZOFFSETTO:-0800
TZNAME:PST
DTSTART:20261101T090000
END:STANDARD
END:VTIMEZONE
BEGIN:VEVENT
DTSTART;TZID=America/Los_Angeles:20251004T150000
DTEND;TZID=America/Los_Angeles:20251004T190000
DTSTAMP:20260423T130927
CREATED:20250909T044041Z
LAST-MODIFIED:20250911T181824Z
UID:10002000-1759590000-1759604400@cstpdx.com
SUMMARY:Psychotronic Halloween Special
DESCRIPTION:Time to get spooky with the PSYCHOTRONIC HALLOWEEN SPECIAL—free small popcorn with every ticket! \n\n\n\nAll you ghouls will be thrilled to pieces when you see this Halloween extravaganza of cartoons\, stop-motion animation and other oddities on vintage 16mm film. Get ready to shiver in your shoes with a visit from the Groovy Ghoulies\, the Spooky Boos\, The Witty Witch and none other than the Headless Horseman! \n\n\n\nGuaranteed to kick off October and help get you in the Halloween mood! \n\n\n\nCurated by Greg Hamilton of Darkroom Associates – the mind behind the Psychotronic After School Special\, The Nyback Show\, Trailermania and several other excuses to unspool 16mm film.
URL:https://cstpdx.com/event/psychotronic-halloween-special-2/
CATEGORIES:film
ATTACH;FMTTYPE=image/jpeg:https://cstpdx.com/wp-content/uploads/2025/09/Psychotronic-Halloween-Clinton-2025.jpg
END:VEVENT
BEGIN:VEVENT
DTSTART;TZID=America/Los_Angeles:20251004T190000
DTEND;TZID=America/Los_Angeles:20251004T210000
DTSTAMP:20260423T130927
CREATED:20250718T214156Z
LAST-MODIFIED:20250718T214158Z
UID:10001925-1759604400-1759611600@cstpdx.com
SUMMARY:Repo! The Genetic Opera with The Denton Deliquents
DESCRIPTION:Special screening with a shadowcast performance by The Denton Deliquents! \n\n\n\nA worldwide epidemic encourages a biotech company to launch an organ-financing program similar in nature to a standard car loan. The repossession clause is a killer\, however. \n\n\n\nCome in costume and plan to sing-along!
URL:https://cstpdx.com/event/repo-the-genetic-opera-with-the-denton-deliquents-2/
CATEGORIES:drag
ATTACH;FMTTYPE=image/jpeg:https://cstpdx.com/wp-content/uploads/2024/08/repo.jpeg
END:VEVENT
BEGIN:VEVENT
DTSTART;TZID=America/Los_Angeles:20251004T223000
DTEND;TZID=America/Los_Angeles:20251004T235900
DTSTAMP:20260423T130927
CREATED:20250826T224817Z
LAST-MODIFIED:20250826T224820Z
UID:10001973-1759617000-1759622340@cstpdx.com
SUMMARY:The Rocky Horror Picture Show with the Clinton Street Cabaret
DESCRIPTION:Doors open at 10:00 PM; pre-show starts at 10:30 PM \n\n\n\nJoin our weekly screenings of The Rocky Horror Picture Show that started in April of 1978! Starring Tim Curry\, Susan Sarandon\, and Barry Bostwick\, The Rocky Horror Picture Show (1975) continues to titillate and delight audiences all over the world. \n\n\n\nTonight’s screening features the cast of the Clinton Street Cabaret! $2 from every ticket goes to support the group. Come see the famous\, rambunctious show that has played every single week at the Clinton Street Theater in Portland\, Oregon. \n\n\n\n\nDirector: Jim Sharman\n\n\n\nCountry: USA\n\n\n\nYear: 1975\n\n\n\nRuntime: 100 minutes\n\n\n\n\n\nStarting March 16th of 2024 the CSC will have a selection of tickets for each show which are available to our BIPOC community members FREE of charge! \n\n\n\nTo reserve one send an email to the Clinton Street Cabaret clintonstreetec@gmail.com with the heading BIPOC Affinity Ticket and include your name and the date of the show you would like to reserve a ticket for in the body of the email. Only 1 ticket can be reserved per person per show and reserved tickets also include a prop bag. These tickets can only be reserved by confirmed email with the Clinton Street Cabaret and are not available to reserve at the Clinton Street Theater box office. \n\n\n\nTickets can be reserved starting 2 weeks before a show and no later than 2 hours before the show. Please note we won’t be able to accommodate late requests for shows that are already sold out. These are tickets specifically for the Clinton Street Cabaret’s performances of the Rocky Horror Picture Show at the Clinton Street Theater\, on the 1st\, 3rd\, and occasionally 5th Saturdays of the month.  \n\n\n\nShowings on 2nd and 4th Saturdays or “For Virgins” nights are not Cabaret shows and do not qualify for this program.
URL:https://cstpdx.com/event/the-rocky-horror-picture-show-with-the-clinton-street-cabaret-69/
CATEGORIES:drag
ATTACH;FMTTYPE=image/jpeg:https://cstpdx.com/wp-content/uploads/2022/05/rockyhorror.jpeg
END:VEVENT
END:VCALENDAR