BEGIN:VCALENDAR
VERSION:2.0
PRODID:-//Clinton Street Theater - ECPv6.15.20//NONSGML v1.0//EN
CALSCALE:GREGORIAN
METHOD:PUBLISH
X-ORIGINAL-URL:https://cstpdx.com
X-WR-CALDESC:Events for Clinton Street Theater
REFRESH-INTERVAL;VALUE=DURATION:PT1H
X-Robots-Tag:noindex
X-PUBLISHED-TTL:PT1H
BEGIN:VTIMEZONE
TZID:America/Los_Angeles
BEGIN:DAYLIGHT
TZOFFSETFROM:-0800
TZOFFSETTO:-0700
TZNAME:PDT
DTSTART:20240310T100000
END:DAYLIGHT
BEGIN:STANDARD
TZOFFSETFROM:-0700
TZOFFSETTO:-0800
TZNAME:PST
DTSTART:20241103T090000
END:STANDARD
BEGIN:DAYLIGHT
TZOFFSETFROM:-0800
TZOFFSETTO:-0700
TZNAME:PDT
DTSTART:20250309T100000
END:DAYLIGHT
BEGIN:STANDARD
TZOFFSETFROM:-0700
TZOFFSETTO:-0800
TZNAME:PST
DTSTART:20251102T090000
END:STANDARD
BEGIN:DAYLIGHT
TZOFFSETFROM:-0800
TZOFFSETTO:-0700
TZNAME:PDT
DTSTART:20260308T100000
END:DAYLIGHT
BEGIN:STANDARD
TZOFFSETFROM:-0700
TZOFFSETTO:-0800
TZNAME:PST
DTSTART:20261101T090000
END:STANDARD
END:VTIMEZONE
BEGIN:VEVENT
DTSTART;TZID=America/Los_Angeles:20251002T190000
DTEND;TZID=America/Los_Angeles:20251002T210000
DTSTAMP:20260423T130916
CREATED:20250718T214021Z
LAST-MODIFIED:20250925T172328Z
UID:10001921-1759431600-1759438800@cstpdx.com
SUMMARY:Toxic Avenger (1984)
DESCRIPTION:See the original Toxie with a special video introduction to the fans in Portland from Lloyd Kaufman!  \n\n\n\nTromaville has a monstrous hero is born when meek mop boy Melvin falls into a vat of toxic waste. Now evildoers will have a lot to lose. \n\n\n\nBy purchasing a ticket to the 7:00 PM screening of The Toxic Avenger (1984)\, customers are welcome to stay for the special screening of The Onion’s Jeffrey Epstein: Bad Pedophile at 9:00 PM for free. \n\n\n\n    \n        Director: Michael Herz\, Lloyd Kaufman\n        Year: 1984\n        Country: USA\n        Runtime: 82 minutes
URL:https://cstpdx.com/event/toxic-avenger/
ATTACH;FMTTYPE=image/webp:https://cstpdx.com/wp-content/uploads/2025/07/toxic-avenger.webp
END:VEVENT
BEGIN:VEVENT
DTSTART;TZID=America/Los_Angeles:20251002T210000
DTEND;TZID=America/Los_Angeles:20251002T220000
DTSTAMP:20260423T130916
CREATED:20250925T171300Z
LAST-MODIFIED:20250928T005751Z
UID:10002016-1759438800-1759442400@cstpdx.com
SUMMARY:Jeffrey Epstein: Bad Pedophile
DESCRIPTION:SOLD OUT \n\n\n\n\nSpecial screening of The Onion’s mockumentary Jeffrey Epstein: Bad Pedophile. One night only.
URL:https://cstpdx.com/event/jeffrey-epstein-bad-pedophile/
ATTACH;FMTTYPE=image/jpeg:https://cstpdx.com/wp-content/uploads/2025/09/trump-epstein.jpg
END:VEVENT
BEGIN:VEVENT
DTSTART;TZID=America/Los_Angeles:20251002T220000
DTEND;TZID=America/Los_Angeles:20251002T230000
DTSTAMP:20260423T130916
CREATED:20250927T011237Z
LAST-MODIFIED:20250927T011238Z
UID:10002017-1759442400-1759446000@cstpdx.com
SUMMARY:Jeffrey Epstein: Bad Pedophile
DESCRIPTION:Encore screening of The Onion’s mockumentary Jeffrey Epstein: Bad Pedophile. One night only.
URL:https://cstpdx.com/event/jeffrey-epstein-bad-pedophile-2/
ATTACH;FMTTYPE=image/jpeg:https://cstpdx.com/wp-content/uploads/2025/09/trump-epstein.jpg
END:VEVENT
END:VCALENDAR