BEGIN:VCALENDAR
VERSION:2.0
PRODID:-//Clinton Street Theater - ECPv6.15.20//NONSGML v1.0//EN
CALSCALE:GREGORIAN
METHOD:PUBLISH
X-ORIGINAL-URL:https://cstpdx.com
X-WR-CALDESC:Events for Clinton Street Theater
REFRESH-INTERVAL;VALUE=DURATION:PT1H
X-Robots-Tag:noindex
X-PUBLISHED-TTL:PT1H
BEGIN:VTIMEZONE
TZID:America/Los_Angeles
BEGIN:DAYLIGHT
TZOFFSETFROM:-0800
TZOFFSETTO:-0700
TZNAME:PDT
DTSTART:20240310T100000
END:DAYLIGHT
BEGIN:STANDARD
TZOFFSETFROM:-0700
TZOFFSETTO:-0800
TZNAME:PST
DTSTART:20241103T090000
END:STANDARD
BEGIN:DAYLIGHT
TZOFFSETFROM:-0800
TZOFFSETTO:-0700
TZNAME:PDT
DTSTART:20250309T100000
END:DAYLIGHT
BEGIN:STANDARD
TZOFFSETFROM:-0700
TZOFFSETTO:-0800
TZNAME:PST
DTSTART:20251102T090000
END:STANDARD
BEGIN:DAYLIGHT
TZOFFSETFROM:-0800
TZOFFSETTO:-0700
TZNAME:PDT
DTSTART:20260308T100000
END:DAYLIGHT
BEGIN:STANDARD
TZOFFSETFROM:-0700
TZOFFSETTO:-0800
TZNAME:PST
DTSTART:20261101T090000
END:STANDARD
END:VTIMEZONE
BEGIN:VEVENT
DTSTART;TZID=America/Los_Angeles:20250928T150000
DTEND;TZID=America/Los_Angeles:20250928T170000
DTSTAMP:20260423T130859
CREATED:20250806T040158Z
LAST-MODIFIED:20250806T040200Z
UID:10001951-1759071600-1759078800@cstpdx.com
SUMMARY:25 Cats from Qatar
DESCRIPTION:Qatar is one of the world’s wealthiest nations\, and its rapid growth is powered by migrant workers who make 89% of the population. But underneath the luxurious surface lies an overwhelming street cat population where disease is rampant\, the heat is extreme\, and expats are burdened to help the struggling felines.  \n\n\n\nWhen an American flight attendant and cat cafe owner becomes aware of the crisis\, she hatches a plan to fly 25 cats to Milwaukee\, where her cat cafe provides a pipeline for adoption.  \n\n\n\nPresenting a microcosm of a global crisis\, the film asks searching questions about animal welfare\, all within a ticking-clock narrative about the nuts and bolts of a rescue mission. It is both an urgent wake-up call and a heartwarming story of overcoming international barriers for a common goal. \n\n\n\nPart of the FRESH PRODUCE series\, a program that finds new and compelling independent cinema from the festival circuit and brings those films to Portland audiences. Hosted by Portland film curator Greg Hamilton. \n\n\n\n    \n        Director: Mye Hoang\n        Year: 2025\n        Country: United States\n        Runtime: 95 minutes
URL:https://cstpdx.com/event/25-cats-from-qatar/
CATEGORIES:film
ATTACH;FMTTYPE=image/webp:https://cstpdx.com/wp-content/uploads/2025/08/cats-from-qatar.webp
END:VEVENT
BEGIN:VEVENT
DTSTART;TZID=America/Los_Angeles:20250928T190000
DTEND;TZID=America/Los_Angeles:20250928T210000
DTSTAMP:20260423T130859
CREATED:20250806T040310Z
LAST-MODIFIED:20250813T190519Z
UID:10001952-1759086000-1759093200@cstpdx.com
SUMMARY:25 Cats from Qatar
DESCRIPTION:Qatar is one of the world’s wealthiest nations\, and its rapid growth is powered by migrant workers who make 89% of the population. But underneath the luxurious surface lies an overwhelming street cat population where disease is rampant\, the heat is extreme\, and expats are burdened to help the struggling felines.  \n\n\n\nWhen an American flight attendant and cat cafe owner becomes aware of the crisis\, she hatches a plan to fly 25 cats to Milwaukee\, where her cat cafe provides a pipeline for adoption.  \n\n\n\nPresenting a microcosm of a global crisis\, the film asks searching questions about animal welfare\, all within a ticking-clock narrative about the nuts and bolts of a rescue mission. It is both an urgent wake-up call and a heartwarming story of overcoming international barriers for a common goal. \n\n\n\nPart of the FRESH PRODUCE series\, a program that finds new and compelling independent cinema from the festival circuit and brings those films to Portland audiences. Hosted by Portland film curator Greg Hamilton. \n\n\n\n    \n        Director: Mye Hoang\n        Year: 2025\n        Country: United States\n        Runtime: 95 minutes
URL:https://cstpdx.com/event/25-cats-from-qatar-2/
CATEGORIES:film
ATTACH;FMTTYPE=image/webp:https://cstpdx.com/wp-content/uploads/2025/08/cats-from-qatar.webp
END:VEVENT
END:VCALENDAR