BEGIN:VCALENDAR
VERSION:2.0
PRODID:-//Clinton Street Theater - ECPv6.15.20//NONSGML v1.0//EN
CALSCALE:GREGORIAN
METHOD:PUBLISH
X-ORIGINAL-URL:https://cstpdx.com
X-WR-CALDESC:Events for Clinton Street Theater
REFRESH-INTERVAL;VALUE=DURATION:PT1H
X-Robots-Tag:noindex
X-PUBLISHED-TTL:PT1H
BEGIN:VTIMEZONE
TZID:America/Los_Angeles
BEGIN:DAYLIGHT
TZOFFSETFROM:-0800
TZOFFSETTO:-0700
TZNAME:PDT
DTSTART:20240310T100000
END:DAYLIGHT
BEGIN:STANDARD
TZOFFSETFROM:-0700
TZOFFSETTO:-0800
TZNAME:PST
DTSTART:20241103T090000
END:STANDARD
BEGIN:DAYLIGHT
TZOFFSETFROM:-0800
TZOFFSETTO:-0700
TZNAME:PDT
DTSTART:20250309T100000
END:DAYLIGHT
BEGIN:STANDARD
TZOFFSETFROM:-0700
TZOFFSETTO:-0800
TZNAME:PST
DTSTART:20251102T090000
END:STANDARD
BEGIN:DAYLIGHT
TZOFFSETFROM:-0800
TZOFFSETTO:-0700
TZNAME:PDT
DTSTART:20260308T100000
END:DAYLIGHT
BEGIN:STANDARD
TZOFFSETFROM:-0700
TZOFFSETTO:-0800
TZNAME:PST
DTSTART:20261101T090000
END:STANDARD
END:VTIMEZONE
BEGIN:VEVENT
DTSTART;TZID=America/Los_Angeles:20250925T150000
DTEND;TZID=America/Los_Angeles:20250925T170000
DTSTAMP:20260423T144404
CREATED:20250901T061951Z
LAST-MODIFIED:20250918T194039Z
UID:10001988-1758812400-1758819600@cstpdx.com
SUMMARY:Strange Journey
DESCRIPTION:From humble origins as a London fringe theater play to its meteoric rise as the biggest cult film of all time\, this is the definitive story of The Rocky Horror Picture Show. With intimate access to its creator Richard O’Brien and other major players such as Tim Curry\, Susan Sarandon and Lou Adler\, the documentary explores what makes the play and film so singular\, from its groundbreaking and transgressive themes to its iconic performances and epic songs that took over popular culture. \n\n\n\n    \n        Director: Linus O’Brien\n        Year: 2025\n        Country: United States\n        Runtime: 89 minutes
URL:https://cstpdx.com/event/strange-journey/
CATEGORIES:documentary
ATTACH;FMTTYPE=image/png:https://cstpdx.com/wp-content/uploads/2025/08/StrangeJourney_27x39-vertical-poster_RED-websize.png
END:VEVENT
BEGIN:VEVENT
DTSTART;TZID=America/Los_Angeles:20250925T200000
DTEND;TZID=America/Los_Angeles:20250925T210000
DTSTAMP:20260423T144404
CREATED:20250731T035240Z
LAST-MODIFIED:20250731T035242Z
UID:10001937-1758830400-1758834000@cstpdx.com
SUMMARY:Giggle Bottom One Year Anniversary Show
DESCRIPTION:21+ \n\n\n\n\nThe show concept is simple. Three stand up comedians perform sets\, introducing themselves to the audience. Then the kinkster-of-the-month comes out to present to the audience the kink for that show.  We will always announce the kink during ticket sales so you know what you’re in for as an audience member! \n\n\n\nThen our kinkster and comics will have a deconstructed on-stage negotiation\, in the form of a Q & A. Following this each of the comics will have a “scene” with the kinkster. Though some kink involves sex\, any pleasure or comics experience will not be inherently sexual pleasure. (And if it is\, oops. How fun.) \n\n\n\nTo close out the show\, your host will bring everyone on stage for a moment of collective debriefing\, describe initial reactions\, and so on. \n\n\n\nFor a bigger & better show we will have not one but TWO kinks presented on this evening\, with a total of FOUR presenters! If you’re familiar with our format\, same same but different\, we’ll be adding in more scenes\, more comedy\, as well as an intermission. (Time for you to cruise the crowd or visit the merch table.) \n\n\n\nTHE KINKS: ROPE TYING & SUSPENSION and HUMAN FURNITURE \n\n\n\nTHE PRESENTERS: Natalie Rose and Ron Swanson\, and Mistress Dama & Jet Black. \n\n\n\nNatalie Rose (they/she) is a queer kink educator and lifestyle coach who teaches rope and power exchange with guts\, grace\, and zero pretense. They’ve been active in the scene since 2013\, starting as a rope bottom (then\, under the name ShesANatural)\, evolving into a rope top and performer\, and teaching at 30+ events across North America. Their work centers embodied learning\, practical technique\, and inclusive\, affirming education\, especially for rope bottoms and those navigating power exchange. Natalie brings over a decade of lived experience\, including a thriving 24/7 authority-transfer relationship since 2014. Whether you’re tying\, being tied\, or building dynamics that last\, Natalie offers tools that are rooted\, real\, and ready for wherever you are in your kink journey. \n\n\n\nRON SWANSON (they/them) is a nonbinary butch sadist whose primary kink  interests are rope and sharps. Ron is a graduate of and instructor for Bondage Soup\, a 12-month progressive rope education program\, and loves tying with people of all different shapes\, sizes\, and abilities. Ron’s background in the mental health field informs their desire to “hurt not harm” and to create space with others that is as physically\, emotionally\, and psychologically safe as possible. Ron has been known to switch “for science!” to better understand the experience of those they get to torment. Ron’s topping style is much less regimented or formal than some\, and they generally tie in a collaborative and intuitive way\, tailoring the experience to each person.  \n\n\n\nJet Black (any pronouns) is a submissive-leaning switch\, emotional masochist\, and lover of all things role-playing. He’s been interested in aspects of kink for as long as he can remember and joined the kink community about 6 years ago. With his partner Damascena\, he loves building casts of characters and exploring all types of D/s and power exchange. \n\n\n\nDama (she/her) is a switchy\, cerebral kinkster who plays an ice queen Domme in public and innumerable fun-loving people and things (wicked stepmother\, kitten\, SexBot 3000\, furniture) in her creative explorations with Jet Black. This writer and lover of language’s power has always wanted to take an improv class! She’s excited to see how kink role-play and comedy will hilariously intersect.
URL:https://cstpdx.com/event/giggle-bottom-one-year-anniversary-show/
ATTACH;FMTTYPE=image/png:https://cstpdx.com/wp-content/uploads/2025/07/Giggle-Bottom-poster.png
END:VEVENT
END:VCALENDAR