BEGIN:VCALENDAR
VERSION:2.0
PRODID:-//Clinton Street Theater - ECPv6.15.20//NONSGML v1.0//EN
CALSCALE:GREGORIAN
METHOD:PUBLISH
X-WR-CALNAME:Clinton Street Theater
X-ORIGINAL-URL:https://cstpdx.com
X-WR-CALDESC:Events for Clinton Street Theater
REFRESH-INTERVAL;VALUE=DURATION:PT1H
X-Robots-Tag:noindex
X-PUBLISHED-TTL:PT1H
BEGIN:VTIMEZONE
TZID:America/Los_Angeles
BEGIN:DAYLIGHT
TZOFFSETFROM:-0800
TZOFFSETTO:-0700
TZNAME:PDT
DTSTART:20240310T100000
END:DAYLIGHT
BEGIN:STANDARD
TZOFFSETFROM:-0700
TZOFFSETTO:-0800
TZNAME:PST
DTSTART:20241103T090000
END:STANDARD
BEGIN:DAYLIGHT
TZOFFSETFROM:-0800
TZOFFSETTO:-0700
TZNAME:PDT
DTSTART:20250309T100000
END:DAYLIGHT
BEGIN:STANDARD
TZOFFSETFROM:-0700
TZOFFSETTO:-0800
TZNAME:PST
DTSTART:20251102T090000
END:STANDARD
BEGIN:DAYLIGHT
TZOFFSETFROM:-0800
TZOFFSETTO:-0700
TZNAME:PDT
DTSTART:20260308T100000
END:DAYLIGHT
BEGIN:STANDARD
TZOFFSETFROM:-0700
TZOFFSETTO:-0800
TZNAME:PST
DTSTART:20261101T090000
END:STANDARD
END:VTIMEZONE
BEGIN:VEVENT
DTSTART;TZID=America/Los_Angeles:20250923T190000
DTEND;TZID=America/Los_Angeles:20250923T210000
DTSTAMP:20260423T143836
CREATED:20250808T042714Z
LAST-MODIFIED:20250814T151640Z
UID:10001957-1758654000-1758661200@cstpdx.com
SUMMARY:La Ciénaga
DESCRIPTION:Lucrecia Martel’s debut heralded the arrival of an astonishingly vital and original voice in Argentine cinema.  \n\n\n\nWith a radical and disturbing take on narrative\, beautiful cinematography\, and a highly sophisticated use of on- and offscreen sound\, Martel turns her tale of a dissolute bourgeois extended family\, whiling away the hours of one sweaty\, sticky summer\, into a cinematic marvel. \n\n\n\nThis visceral take on class\, nature\, sexuality\, and the ways that political turmoil and social stagnation can manifest in human relationships is a drama of extraordinary tactility\, and one of the great contemporary film debuts.A portion of ticket sales will benefit Bringing Eats Across Neighborhood Streets (B.E.A.N.S.)\, a collective of food and housing advocates. \n\n\n\n    \n        Director: Lucrecia Martel\n        Year: 2001\n        Country: Argentina\n        Runtime: 100 minutes
URL:https://cstpdx.com/event/la-cienaga/
CATEGORIES:crumbling empires
ATTACH;FMTTYPE=image/webp:https://cstpdx.com/wp-content/uploads/2025/08/la-cienaga.webp
END:VEVENT
END:VCALENDAR