BEGIN:VCALENDAR
VERSION:2.0
PRODID:-//Clinton Street Theater - ECPv6.15.20//NONSGML v1.0//EN
CALSCALE:GREGORIAN
METHOD:PUBLISH
X-WR-CALNAME:Clinton Street Theater
X-ORIGINAL-URL:https://cstpdx.com
X-WR-CALDESC:Events for Clinton Street Theater
REFRESH-INTERVAL;VALUE=DURATION:PT1H
X-Robots-Tag:noindex
X-PUBLISHED-TTL:PT1H
BEGIN:VTIMEZONE
TZID:America/Los_Angeles
BEGIN:DAYLIGHT
TZOFFSETFROM:-0800
TZOFFSETTO:-0700
TZNAME:PDT
DTSTART:20240310T100000
END:DAYLIGHT
BEGIN:STANDARD
TZOFFSETFROM:-0700
TZOFFSETTO:-0800
TZNAME:PST
DTSTART:20241103T090000
END:STANDARD
BEGIN:DAYLIGHT
TZOFFSETFROM:-0800
TZOFFSETTO:-0700
TZNAME:PDT
DTSTART:20250309T100000
END:DAYLIGHT
BEGIN:STANDARD
TZOFFSETFROM:-0700
TZOFFSETTO:-0800
TZNAME:PST
DTSTART:20251102T090000
END:STANDARD
BEGIN:DAYLIGHT
TZOFFSETFROM:-0800
TZOFFSETTO:-0700
TZNAME:PDT
DTSTART:20260308T100000
END:DAYLIGHT
BEGIN:STANDARD
TZOFFSETFROM:-0700
TZOFFSETTO:-0800
TZNAME:PST
DTSTART:20261101T090000
END:STANDARD
END:VTIMEZONE
BEGIN:VEVENT
DTSTART;TZID=America/Los_Angeles:20250921T180000
DTEND;TZID=America/Los_Angeles:20250921T210000
DTSTAMP:20260423T144004
CREATED:20250909T042618Z
LAST-MODIFIED:20250909T042620Z
UID:10001998-1758477600-1758488400@cstpdx.com
SUMMARY:MELANGE A QUEER AND P.O.C. VARIETY SHOW
DESCRIPTION:21+ \n\n\n\n\nDo you remembahhhh??? Remembahhhh??? \n\n\n\nRemembahhhhh wheeeeeennnnn! Last month Melange rocked you bleepin socks off?!? We have a whole new cast to do it to ya again!  \n\n\n\nDon’t miss out on this epic event! Mark your calendars and get ready for some fun! Our talented cast is ready to entertain\, enlighten\, and excite you!  \n\n\n\nPrepare to be amazed by our vibrant cast\, friendly crows\, and interactive production! Whether you’re a seasoned fan or new to the scene\, Melange is perfect for anyone looking for a night of pure entertainment! \n\n\n\nOur talented cast is ready to entertain\, enlighten\, and excite you! DR@G! BURLE$QUE! MUSIC! CIRCUS! RAFFLES! AND SO MUCH MORE! \n\n\n\nHosted by:  \n\n\n\n\nUmBruh\n\n\n\n\nActs From: \n\n\n\n\nHARLEM NIGHT\n\n\n\nJADEN MARIASELENA\n\n\n\nSOPHIE DU MAL\n\n\n\nVIDA CATASTROPHE D’Ho\n\n\n\nCAFFEYNE LUV\n\n\n\n\nCrew: \n\n\n\n\nMISS NICOLE\n\n\n\nLANA MONTRESE\n\n\n\nMARQUII DE SADE\n\n\n\n\nOur goal is to create an environment for Queers & POC to share their performance art in a space that is safe\, inclusive\, s3x & body positive\, & entertaining! Thank you for joining us on this journey to make a place specifically FOR US!!
URL:https://cstpdx.com/event/melange-a-queer-and-p-o-c-variety-show-2/
CATEGORIES:drag
ATTACH;FMTTYPE=image/jpeg:https://cstpdx.com/wp-content/uploads/2025/09/A258862E-B296-4104-AEFA-B87191B220D1.jpeg
END:VEVENT
END:VCALENDAR