BEGIN:VCALENDAR
VERSION:2.0
PRODID:-//Clinton Street Theater - ECPv6.15.20//NONSGML v1.0//EN
CALSCALE:GREGORIAN
METHOD:PUBLISH
X-WR-CALNAME:Clinton Street Theater
X-ORIGINAL-URL:https://cstpdx.com
X-WR-CALDESC:Events for Clinton Street Theater
REFRESH-INTERVAL;VALUE=DURATION:PT1H
X-Robots-Tag:noindex
X-PUBLISHED-TTL:PT1H
BEGIN:VTIMEZONE
TZID:America/Los_Angeles
BEGIN:DAYLIGHT
TZOFFSETFROM:-0800
TZOFFSETTO:-0700
TZNAME:PDT
DTSTART:20240310T100000
END:DAYLIGHT
BEGIN:STANDARD
TZOFFSETFROM:-0700
TZOFFSETTO:-0800
TZNAME:PST
DTSTART:20241103T090000
END:STANDARD
BEGIN:DAYLIGHT
TZOFFSETFROM:-0800
TZOFFSETTO:-0700
TZNAME:PDT
DTSTART:20250309T100000
END:DAYLIGHT
BEGIN:STANDARD
TZOFFSETFROM:-0700
TZOFFSETTO:-0800
TZNAME:PST
DTSTART:20251102T090000
END:STANDARD
BEGIN:DAYLIGHT
TZOFFSETFROM:-0800
TZOFFSETTO:-0700
TZNAME:PDT
DTSTART:20260308T100000
END:DAYLIGHT
BEGIN:STANDARD
TZOFFSETFROM:-0700
TZOFFSETTO:-0800
TZNAME:PST
DTSTART:20261101T090000
END:STANDARD
END:VTIMEZONE
BEGIN:VEVENT
DTSTART;TZID=America/Los_Angeles:20250919T190000
DTEND;TZID=America/Los_Angeles:20250919T210000
DTSTAMP:20260423T143921
CREATED:20250813T175912Z
LAST-MODIFIED:20250827T214531Z
UID:10001967-1758308400-1758315600@cstpdx.com
SUMMARY:Idiocracy
DESCRIPTION:Corporal Joe Bauers\, a decidedly average American\, is selected for a top-secret hibernation program but is forgotten and left to awaken to a future so incredibly moronic that he’s easily the most intelligent person alive.A portion of ticket sales will benefit NSLU\, union advocacy group. \n\n\n\n    \n        Director: Mike Judge\n        Year: 2006\n        Country: United States\n        Runtime: 84 minutes
URL:https://cstpdx.com/event/idiocracy/
CATEGORIES:crumbling empires
ATTACH;FMTTYPE=image/webp:https://cstpdx.com/wp-content/uploads/2025/08/idiocracy.webp
END:VEVENT
END:VCALENDAR