BEGIN:VCALENDAR
VERSION:2.0
PRODID:-//Clinton Street Theater - ECPv6.15.20//NONSGML v1.0//EN
CALSCALE:GREGORIAN
METHOD:PUBLISH
X-ORIGINAL-URL:https://cstpdx.com
X-WR-CALDESC:Events for Clinton Street Theater
REFRESH-INTERVAL;VALUE=DURATION:PT1H
X-Robots-Tag:noindex
X-PUBLISHED-TTL:PT1H
BEGIN:VTIMEZONE
TZID:America/Los_Angeles
BEGIN:DAYLIGHT
TZOFFSETFROM:-0800
TZOFFSETTO:-0700
TZNAME:PDT
DTSTART:20240310T100000
END:DAYLIGHT
BEGIN:STANDARD
TZOFFSETFROM:-0700
TZOFFSETTO:-0800
TZNAME:PST
DTSTART:20241103T090000
END:STANDARD
BEGIN:DAYLIGHT
TZOFFSETFROM:-0800
TZOFFSETTO:-0700
TZNAME:PDT
DTSTART:20250309T100000
END:DAYLIGHT
BEGIN:STANDARD
TZOFFSETFROM:-0700
TZOFFSETTO:-0800
TZNAME:PST
DTSTART:20251102T090000
END:STANDARD
BEGIN:DAYLIGHT
TZOFFSETFROM:-0800
TZOFFSETTO:-0700
TZNAME:PDT
DTSTART:20260308T100000
END:DAYLIGHT
BEGIN:STANDARD
TZOFFSETFROM:-0700
TZOFFSETTO:-0800
TZNAME:PST
DTSTART:20261101T090000
END:STANDARD
END:VTIMEZONE
BEGIN:VEVENT
DTSTART;TZID=America/Los_Angeles:20250916T190000
DTEND;TZID=America/Los_Angeles:20250916T210000
DTSTAMP:20260423T144248
CREATED:20250808T045958Z
LAST-MODIFIED:20250826T202044Z
UID:10001964-1758049200-1758056400@cstpdx.com
SUMMARY:Spaces of Exception 
DESCRIPTION:Directed by Matt Peterson and Malek Rasamny and shot from 2014 to 2017 in Arizona\, New Mexico\, New York\, South Dakota\, Lebanon\, and the West Bank\, this documentary juxtaposes spaces of the American Indian reservation and the Palestinian refugee camp in an attempt to understand the significance of the land and how territory frames the idea of sovereignty when identities are produced and maintained by the state.A portion of ticket sales will benefit Yousef Ahmad Hatem Al-Swalhi\, a multimedia student in Gaza\, and the NAYA Family Center\, a non-profit community organization in Portland.
URL:https://cstpdx.com/event/spaces-of-exception/
CATEGORIES:crumbling empires,documentary
ATTACH;FMTTYPE=image/webp:https://cstpdx.com/wp-content/uploads/2025/08/spaces-of-exception.webp
END:VEVENT
END:VCALENDAR