BEGIN:VCALENDAR
VERSION:2.0
PRODID:-//Clinton Street Theater - ECPv6.15.20//NONSGML v1.0//EN
CALSCALE:GREGORIAN
METHOD:PUBLISH
X-WR-CALNAME:Clinton Street Theater
X-ORIGINAL-URL:https://cstpdx.com
X-WR-CALDESC:Events for Clinton Street Theater
REFRESH-INTERVAL;VALUE=DURATION:PT1H
X-Robots-Tag:noindex
X-PUBLISHED-TTL:PT1H
BEGIN:VTIMEZONE
TZID:America/Los_Angeles
BEGIN:DAYLIGHT
TZOFFSETFROM:-0800
TZOFFSETTO:-0700
TZNAME:PDT
DTSTART:20240310T100000
END:DAYLIGHT
BEGIN:STANDARD
TZOFFSETFROM:-0700
TZOFFSETTO:-0800
TZNAME:PST
DTSTART:20241103T090000
END:STANDARD
BEGIN:DAYLIGHT
TZOFFSETFROM:-0800
TZOFFSETTO:-0700
TZNAME:PDT
DTSTART:20250309T100000
END:DAYLIGHT
BEGIN:STANDARD
TZOFFSETFROM:-0700
TZOFFSETTO:-0800
TZNAME:PST
DTSTART:20251102T090000
END:STANDARD
BEGIN:DAYLIGHT
TZOFFSETFROM:-0800
TZOFFSETTO:-0700
TZNAME:PDT
DTSTART:20260308T100000
END:DAYLIGHT
BEGIN:STANDARD
TZOFFSETFROM:-0700
TZOFFSETTO:-0800
TZNAME:PST
DTSTART:20261101T090000
END:STANDARD
END:VTIMEZONE
BEGIN:VEVENT
DTSTART;TZID=America/Los_Angeles:20250914T130000
DTEND;TZID=America/Los_Angeles:20250914T160000
DTSTAMP:20260423T144006
CREATED:20250718T215402Z
LAST-MODIFIED:20250911T202915Z
UID:10001930-1757854800-1757865600@cstpdx.com
SUMMARY:Death: Out of the Shadows
DESCRIPTION:There are over 8 billion people in the world. Every single one of them will die\, about 2 people every second. In the United States alone\, over 8\,000 people die every day. The time has come to bring death out of the shadows and break the cycle of fear and trauma. In this one hour documentary\, we talked to death doulas\, grief counselors\, doctors and first responders to find out why people are afraid of this necessary part of life\, and what we\, as a culture\, can do to improve our relationship with death. \n\n\n\nPanelists: \n\n\n\nDeanna Haines – End-of-Life Doula\, Community Educator \n\n\n\nValenca Valenzuela – Licensed Clinical Social Worker\, Grief Counselor \n\n\n\nAsher Wallis – Grief Counselor\, Hospice Spiritual Care Provider \n\n\n\nDina Brothers – Medical Doctor\, Community Educator \n\n\n\nMaryann Giunta – End-of-Life Doula\, Occupational Therapist \n\n\n\nAlyssa Ackerman – End-of-Life Doula\, Griefworker\, Massage Therapist
URL:https://cstpdx.com/event/death-out-of-the-shadows-2/
CATEGORIES:film
ATTACH;FMTTYPE=image/webp:https://cstpdx.com/wp-content/uploads/2025/07/death-out-of-the-shadow.webp
END:VEVENT
BEGIN:VEVENT
DTSTART;TZID=America/Los_Angeles:20250914T190000
DTEND;TZID=America/Los_Angeles:20250914T210000
DTSTAMP:20260423T144006
CREATED:20250808T044006Z
LAST-MODIFIED:20250808T044025Z
UID:10001959-1757876400-1757883600@cstpdx.com
SUMMARY:Children of Men
DESCRIPTION:In 2027\, in a chaotic world in which women have somehow become infertile\, a former activist agrees to help transport a miraculously pregnant woman to a sanctuary at sea. \n\n\n\n    \n        Director: Alfonso Cuarón\n        Year: 2006\n        Country: United Kingdom\, United States\, Japan\n        Runtime: 109 minutes
URL:https://cstpdx.com/event/children-of-men/
CATEGORIES:crumbling empires
ATTACH;FMTTYPE=image/webp:https://cstpdx.com/wp-content/uploads/2025/08/children-of-men.webp
END:VEVENT
END:VCALENDAR