BEGIN:VCALENDAR
VERSION:2.0
PRODID:-//Clinton Street Theater - ECPv6.15.20//NONSGML v1.0//EN
CALSCALE:GREGORIAN
METHOD:PUBLISH
X-ORIGINAL-URL:https://cstpdx.com
X-WR-CALDESC:Events for Clinton Street Theater
REFRESH-INTERVAL;VALUE=DURATION:PT1H
X-Robots-Tag:noindex
X-PUBLISHED-TTL:PT1H
BEGIN:VTIMEZONE
TZID:America/Los_Angeles
BEGIN:DAYLIGHT
TZOFFSETFROM:-0800
TZOFFSETTO:-0700
TZNAME:PDT
DTSTART:20240310T100000
END:DAYLIGHT
BEGIN:STANDARD
TZOFFSETFROM:-0700
TZOFFSETTO:-0800
TZNAME:PST
DTSTART:20241103T090000
END:STANDARD
BEGIN:DAYLIGHT
TZOFFSETFROM:-0800
TZOFFSETTO:-0700
TZNAME:PDT
DTSTART:20250309T100000
END:DAYLIGHT
BEGIN:STANDARD
TZOFFSETFROM:-0700
TZOFFSETTO:-0800
TZNAME:PST
DTSTART:20251102T090000
END:STANDARD
BEGIN:DAYLIGHT
TZOFFSETFROM:-0800
TZOFFSETTO:-0700
TZNAME:PDT
DTSTART:20260308T100000
END:DAYLIGHT
BEGIN:STANDARD
TZOFFSETFROM:-0700
TZOFFSETTO:-0800
TZNAME:PST
DTSTART:20261101T090000
END:STANDARD
END:VTIMEZONE
BEGIN:VEVENT
DTSTART;TZID=America/Los_Angeles:20250913T190000
DTEND;TZID=America/Los_Angeles:20250913T210000
DTSTAMP:20260423T144352
CREATED:20250808T044700Z
LAST-MODIFIED:20250814T152048Z
UID:10001961-1757790000-1757797200@cstpdx.com
SUMMARY:Pan's Labyrinth
DESCRIPTION:In 1944 Spain\, a girl is sent to live with her ruthless stepfather. During the night\, she meets a fairy who takes her to an old faun. He tells her she’s a princess\, but must prove her royalty by surviving three gruesome tasks.A portion of ticket sales will benefit Bark\, a non-profit group that works to defend and restore Mt. Hood forest. \n\n\n\n    \n        Director: Guillermo del Toro\n        Year: 2006\n        Country: Spain\, Mexico\n        Runtime: 120 minutes
URL:https://cstpdx.com/event/pans-labyrinth/
CATEGORIES:crumbling empires
ATTACH;FMTTYPE=image/webp:https://cstpdx.com/wp-content/uploads/2025/08/pans-labyrinth.webp
END:VEVENT
BEGIN:VEVENT
DTSTART;TZID=America/Los_Angeles:20250913T230000
DTEND;TZID=America/Los_Angeles:20250913T235900
DTSTAMP:20260423T144352
CREATED:20250731T035339Z
LAST-MODIFIED:20250731T035341Z
UID:10001938-1757804400-1757807940@cstpdx.com
SUMMARY:The Rocky Horror Picture Show with Sinophelia
DESCRIPTION:Come watch our intimate\, scaled-back screening of the ultimate cult movie that has played weekly at the Clinton Street Theater since 1978 with everyone’s ancient royal vampire\, Thee Countess Sinophelia! \n\n\n\nEnjoy the legendary “bad” movie with props and callbacks\, but without all the theatrics of a shadow cast on stage. Perfect for first and old timers. If you love the film on its own\, these screenings are an opportunity to watch the film with less visual interruption. \n\n\n\n*Please note this screening does not include a performance or shadow cast of the Clinton Street Cabaret.* \n\n\n\n\nDirector: Jim Sharman\n\n\n\nCountry: USA\n\n\n\nYear: 1975\n\n\n\nRuntime: 100 minutes
URL:https://cstpdx.com/event/the-rocky-horror-picture-show-with-sinophelia-8/
CATEGORIES:drag
ATTACH;FMTTYPE=image/webp:https://cstpdx.com/wp-content/uploads/2023/07/rhps-virgins.webp
END:VEVENT
END:VCALENDAR