BEGIN:VCALENDAR
VERSION:2.0
PRODID:-//Clinton Street Theater - ECPv6.15.20//NONSGML v1.0//EN
CALSCALE:GREGORIAN
METHOD:PUBLISH
X-WR-CALNAME:Clinton Street Theater
X-ORIGINAL-URL:https://cstpdx.com
X-WR-CALDESC:Events for Clinton Street Theater
REFRESH-INTERVAL;VALUE=DURATION:PT1H
X-Robots-Tag:noindex
X-PUBLISHED-TTL:PT1H
BEGIN:VTIMEZONE
TZID:America/Los_Angeles
BEGIN:DAYLIGHT
TZOFFSETFROM:-0800
TZOFFSETTO:-0700
TZNAME:PDT
DTSTART:20240310T100000
END:DAYLIGHT
BEGIN:STANDARD
TZOFFSETFROM:-0700
TZOFFSETTO:-0800
TZNAME:PST
DTSTART:20241103T090000
END:STANDARD
BEGIN:DAYLIGHT
TZOFFSETFROM:-0800
TZOFFSETTO:-0700
TZNAME:PDT
DTSTART:20250309T100000
END:DAYLIGHT
BEGIN:STANDARD
TZOFFSETFROM:-0700
TZOFFSETTO:-0800
TZNAME:PST
DTSTART:20251102T090000
END:STANDARD
BEGIN:DAYLIGHT
TZOFFSETFROM:-0800
TZOFFSETTO:-0700
TZNAME:PDT
DTSTART:20260308T100000
END:DAYLIGHT
BEGIN:STANDARD
TZOFFSETFROM:-0700
TZOFFSETTO:-0800
TZNAME:PST
DTSTART:20261101T090000
END:STANDARD
END:VTIMEZONE
BEGIN:VEVENT
DTSTART;TZID=America/Los_Angeles:20250912T190000
DTEND;TZID=America/Los_Angeles:20250912T210000
DTSTAMP:20260423T144007
CREATED:20250808T044415Z
LAST-MODIFIED:20250808T044416Z
UID:10001960-1757703600-1757710800@cstpdx.com
SUMMARY:V for Vendetta
DESCRIPTION:In a future British dystopian society\, a shadowy freedom fighter known only by the alias of “V” plots to overthrow the tyrannical government with the help of a young woman. \n\n\n\n    \n        Director: James McTeigue\n        Year: 2006\n        Country: United States\, United Kingdom\, Germany\n        Runtime: 133 minutes
URL:https://cstpdx.com/event/v-for-vendetta/
CATEGORIES:crumbling empires
ATTACH;FMTTYPE=image/webp:https://cstpdx.com/wp-content/uploads/2025/08/v-for-vendetta.webp
END:VEVENT
END:VCALENDAR