BEGIN:VCALENDAR
VERSION:2.0
PRODID:-//Clinton Street Theater - ECPv6.15.20//NONSGML v1.0//EN
CALSCALE:GREGORIAN
METHOD:PUBLISH
X-WR-CALNAME:Clinton Street Theater
X-ORIGINAL-URL:https://cstpdx.com
X-WR-CALDESC:Events for Clinton Street Theater
REFRESH-INTERVAL;VALUE=DURATION:PT1H
X-Robots-Tag:noindex
X-PUBLISHED-TTL:PT1H
BEGIN:VTIMEZONE
TZID:America/Los_Angeles
BEGIN:DAYLIGHT
TZOFFSETFROM:-0800
TZOFFSETTO:-0700
TZNAME:PDT
DTSTART:20240310T100000
END:DAYLIGHT
BEGIN:STANDARD
TZOFFSETFROM:-0700
TZOFFSETTO:-0800
TZNAME:PST
DTSTART:20241103T090000
END:STANDARD
BEGIN:DAYLIGHT
TZOFFSETFROM:-0800
TZOFFSETTO:-0700
TZNAME:PDT
DTSTART:20250309T100000
END:DAYLIGHT
BEGIN:STANDARD
TZOFFSETFROM:-0700
TZOFFSETTO:-0800
TZNAME:PST
DTSTART:20251102T090000
END:STANDARD
BEGIN:DAYLIGHT
TZOFFSETFROM:-0800
TZOFFSETTO:-0700
TZNAME:PDT
DTSTART:20260308T100000
END:DAYLIGHT
BEGIN:STANDARD
TZOFFSETFROM:-0700
TZOFFSETTO:-0800
TZNAME:PST
DTSTART:20261101T090000
END:STANDARD
END:VTIMEZONE
BEGIN:VEVENT
DTSTART;TZID=America/Los_Angeles:20250911T193000
DTEND;TZID=America/Los_Angeles:20250911T210000
DTSTAMP:20260423T144007
CREATED:20250808T050417Z
LAST-MODIFIED:20250904T232423Z
UID:10001965-1757619000-1757624400@cstpdx.com
SUMMARY:D&D Comedy Night at the Clinton with NYC's Liz Glazer
DESCRIPTION:LIZ GLAZER is an award-winning stand-up comedian\, actor\, and writer who used to be a tenured law professor\, a job she was very good at. Liz is the winner of both the Boston Comedy Festival and the Ladies of Laughter competition. She appeared on The Tonight Show with Jimmy Fallon\, opened for Myq Kaplan and Maria Bamford\, and was accepted to the 2021 HBO Women in Comedy Festival. Additionally\, Liz has appeared on For Life on ABC and Bull on CBS. Liz is also writing a television pilot about her life\, a draft of which was a semi-finalist in the Stage 32 writing competition. Liz has also been featured in a full article in the Wall Street Journal. You can catch Liz’s new special\, “Do You Know Who I’m Not” on YouTube. \n\n\n\nThese days Liz performs regularly at comedy clubs and festivals. Liz also does private events for law schools\, law firms\, synagogues\, and major corporations. \n\n\n\nARLO WEIERHAUSER is a comedian\, writer\, and actor. They were “Portland’s Funniest Person” in 2017\, performed at Just for Laughs Montreal 2018\, appeared on The Late Show with Stephen Colbert\, and were in Disney’s “Timmy Failure: Mistakes Were Made”. They can also be seen in Epix Season 2 of “Unprotected Sets” and\, most recently\, in “Laugh It Forward” (2025). \n\n\n\nBRENDEN CREECY is Portland’s favorite sad boy. “Just a guy\, a geek\, a dreamer. Queer. Podcaster and stand-up comedian in PDX.” Brenden will compete in the finals of Portland’s Funniest Person contest on August 25th at Helium Comedy Club .  \n\n\n\nHost RACHELLE COCHRAN is a high-energy\, sharp-tongued\, and unapologetically queer comedian whose style blends big-hearted silliness with biting observational takes. Think: the quirky lesbian next door—if your neighbor also casually opened for Cameron Esposito once. She’s performed at Sketchfest\, the All Jane Comedy Festival\, and was one of Willamette Week’s Funniest Five 2025.
URL:https://cstpdx.com/event/dd-comedy-presents-queerly-beloved-starring-nyc-headliner-liz-glazer/
CATEGORIES:comedy
ATTACH;FMTTYPE=image/jpeg:https://cstpdx.com/wp-content/uploads/2025/08/comedy-night-liz-Clinton-square-copy.jpg
END:VEVENT
END:VCALENDAR