BEGIN:VCALENDAR
VERSION:2.0
PRODID:-//Clinton Street Theater - ECPv6.15.20//NONSGML v1.0//EN
CALSCALE:GREGORIAN
METHOD:PUBLISH
X-ORIGINAL-URL:https://cstpdx.com
X-WR-CALDESC:Events for Clinton Street Theater
REFRESH-INTERVAL;VALUE=DURATION:PT1H
X-Robots-Tag:noindex
X-PUBLISHED-TTL:PT1H
BEGIN:VTIMEZONE
TZID:America/Los_Angeles
BEGIN:DAYLIGHT
TZOFFSETFROM:-0800
TZOFFSETTO:-0700
TZNAME:PDT
DTSTART:20240310T100000
END:DAYLIGHT
BEGIN:STANDARD
TZOFFSETFROM:-0700
TZOFFSETTO:-0800
TZNAME:PST
DTSTART:20241103T090000
END:STANDARD
BEGIN:DAYLIGHT
TZOFFSETFROM:-0800
TZOFFSETTO:-0700
TZNAME:PDT
DTSTART:20250309T100000
END:DAYLIGHT
BEGIN:STANDARD
TZOFFSETFROM:-0700
TZOFFSETTO:-0800
TZNAME:PST
DTSTART:20251102T090000
END:STANDARD
BEGIN:DAYLIGHT
TZOFFSETFROM:-0800
TZOFFSETTO:-0700
TZNAME:PDT
DTSTART:20260308T100000
END:DAYLIGHT
BEGIN:STANDARD
TZOFFSETFROM:-0700
TZOFFSETTO:-0800
TZNAME:PST
DTSTART:20261101T090000
END:STANDARD
END:VTIMEZONE
BEGIN:VEVENT
DTSTART;TZID=America/Los_Angeles:20250908T190000
DTEND;TZID=America/Los_Angeles:20250908T210000
DTSTAMP:20260423T144250
CREATED:20250731T034020Z
LAST-MODIFIED:20250802T175702Z
UID:10001936-1757358000-1757365200@cstpdx.com
SUMMARY:The Experiment (2025)
DESCRIPTION:Join us for a community preview screening of the upcoming feature-length documentary The Experiment\, an in-depth look at Portland’s historic year of transition in 2024. \n\n\n\nAs the warning lights flash for American democracy\, the people of Portland embarked on an ambitious experiment in self-governance—a total overhaul of their city government and mode of elections. Can this iconoclastic American city blaze a trail toward a hopeful democratic future?  \n\n\n\nPortland-based filmmakers Nathan Williams and Mia Bruno will be in attendance\, along with several Portland city councilors and other prominent candidates featured in the film.
URL:https://cstpdx.com/event/the-experiment-2025/
CATEGORIES:documentary
ATTACH;FMTTYPE=image/webp:https://cstpdx.com/wp-content/uploads/2025/07/the-experiment.webp
END:VEVENT
END:VCALENDAR