BEGIN:VCALENDAR
VERSION:2.0
PRODID:-//Clinton Street Theater - ECPv6.15.20//NONSGML v1.0//EN
CALSCALE:GREGORIAN
METHOD:PUBLISH
X-WR-CALNAME:Clinton Street Theater
X-ORIGINAL-URL:https://cstpdx.com
X-WR-CALDESC:Events for Clinton Street Theater
REFRESH-INTERVAL;VALUE=DURATION:PT1H
X-Robots-Tag:noindex
X-PUBLISHED-TTL:PT1H
BEGIN:VTIMEZONE
TZID:America/Los_Angeles
BEGIN:DAYLIGHT
TZOFFSETFROM:-0800
TZOFFSETTO:-0700
TZNAME:PDT
DTSTART:20240310T100000
END:DAYLIGHT
BEGIN:STANDARD
TZOFFSETFROM:-0700
TZOFFSETTO:-0800
TZNAME:PST
DTSTART:20241103T090000
END:STANDARD
BEGIN:DAYLIGHT
TZOFFSETFROM:-0800
TZOFFSETTO:-0700
TZNAME:PDT
DTSTART:20250309T100000
END:DAYLIGHT
BEGIN:STANDARD
TZOFFSETFROM:-0700
TZOFFSETTO:-0800
TZNAME:PST
DTSTART:20251102T090000
END:STANDARD
BEGIN:DAYLIGHT
TZOFFSETFROM:-0800
TZOFFSETTO:-0700
TZNAME:PDT
DTSTART:20260308T100000
END:DAYLIGHT
BEGIN:STANDARD
TZOFFSETFROM:-0700
TZOFFSETTO:-0800
TZNAME:PST
DTSTART:20261101T090000
END:STANDARD
END:VTIMEZONE
BEGIN:VEVENT
DTSTART;TZID=America/Los_Angeles:20250904T200000
DTEND;TZID=America/Los_Angeles:20250904T220000
DTSTAMP:20260423T143838
CREATED:20250614T195927Z
LAST-MODIFIED:20250614T195928Z
UID:10001887-1757016000-1757023200@cstpdx.com
SUMMARY:The Crystal Gems in the Land of Ooo
DESCRIPTION:Doors @ 7PM / Show @ 8PM \n\n\n\n21+ \n\n\n\n\n\n\n\n\nCome along with us as we get mathematical in this +21 Adventure Time / Steven Universe themed show!  \n\n\n\nGo on an amazing journey as our cast of drag and burlesque performers do numbers in the style of your favorite characters!  \n\n\n\nIt’ll be sexy\, it’ll make you laugh\, it’ll make you cry. There will also be a costume contest with prizes in the theme of the show! 
URL:https://cstpdx.com/event/the-crystal-gems-in-the-land-of-ooo/
CATEGORIES:drag
ATTACH;FMTTYPE=image/jpeg:https://cstpdx.com/wp-content/uploads/2025/06/Crystal-Gems-in-the-land-of-ooo-scaled.jpg
END:VEVENT
END:VCALENDAR