BEGIN:VCALENDAR
VERSION:2.0
PRODID:-//Clinton Street Theater - ECPv6.15.20//NONSGML v1.0//EN
CALSCALE:GREGORIAN
METHOD:PUBLISH
X-WR-CALNAME:Clinton Street Theater
X-ORIGINAL-URL:https://cstpdx.com
X-WR-CALDESC:Events for Clinton Street Theater
REFRESH-INTERVAL;VALUE=DURATION:PT1H
X-Robots-Tag:noindex
X-PUBLISHED-TTL:PT1H
BEGIN:VTIMEZONE
TZID:America/Los_Angeles
BEGIN:DAYLIGHT
TZOFFSETFROM:-0800
TZOFFSETTO:-0700
TZNAME:PDT
DTSTART:20240310T100000
END:DAYLIGHT
BEGIN:STANDARD
TZOFFSETFROM:-0700
TZOFFSETTO:-0800
TZNAME:PST
DTSTART:20241103T090000
END:STANDARD
BEGIN:DAYLIGHT
TZOFFSETFROM:-0800
TZOFFSETTO:-0700
TZNAME:PDT
DTSTART:20250309T100000
END:DAYLIGHT
BEGIN:STANDARD
TZOFFSETFROM:-0700
TZOFFSETTO:-0800
TZNAME:PST
DTSTART:20251102T090000
END:STANDARD
BEGIN:DAYLIGHT
TZOFFSETFROM:-0800
TZOFFSETTO:-0700
TZNAME:PDT
DTSTART:20260308T100000
END:DAYLIGHT
BEGIN:STANDARD
TZOFFSETFROM:-0700
TZOFFSETTO:-0800
TZNAME:PST
DTSTART:20261101T090000
END:STANDARD
END:VTIMEZONE
BEGIN:VEVENT
DTSTART;TZID=America/Los_Angeles:20250903T190000
DTEND;TZID=America/Los_Angeles:20250903T210000
DTSTAMP:20260423T143918
CREATED:20250829T041157Z
LAST-MODIFIED:20250901T160225Z
UID:10001980-1756926000-1756933200@cstpdx.com
SUMMARY:TERAYAMA: EMPEROR OF THE UNDERGROUND (Church of Film)
DESCRIPTION:The king of Japanese counter-culture\, the artist and poet crowned “The Emperor of the Underground\,” Shuji Terayama’s work spanned an incredible array of disciplines\, all of which he graced with his powerful and anarchic visions. The collection includes many of the master’s greatest short film works which bridge theater\, performance art\, poetry\, and photography to create haunting\, strange and dreamlike worlds. Mind-altering and life-changing\, there is simply no cinema like Terayama’s! \n\n\n\nIncludes TALE OF SMALLPOX\, BUTTERFLY\, GRASS LABYRINTH and more!
URL:https://cstpdx.com/event/terayama-emperor-of-the-underground-church-of-film/
ATTACH;FMTTYPE=image/webp:https://cstpdx.com/wp-content/uploads/2025/08/teramaya.webp
END:VEVENT
END:VCALENDAR