BEGIN:VCALENDAR
VERSION:2.0
PRODID:-//Clinton Street Theater - ECPv6.15.20//NONSGML v1.0//EN
CALSCALE:GREGORIAN
METHOD:PUBLISH
X-ORIGINAL-URL:https://cstpdx.com
X-WR-CALDESC:Events for Clinton Street Theater
REFRESH-INTERVAL;VALUE=DURATION:PT1H
X-Robots-Tag:noindex
X-PUBLISHED-TTL:PT1H
BEGIN:VTIMEZONE
TZID:America/Los_Angeles
BEGIN:DAYLIGHT
TZOFFSETFROM:-0800
TZOFFSETTO:-0700
TZNAME:PDT
DTSTART:20240310T100000
END:DAYLIGHT
BEGIN:STANDARD
TZOFFSETFROM:-0700
TZOFFSETTO:-0800
TZNAME:PST
DTSTART:20241103T090000
END:STANDARD
BEGIN:DAYLIGHT
TZOFFSETFROM:-0800
TZOFFSETTO:-0700
TZNAME:PDT
DTSTART:20250309T100000
END:DAYLIGHT
BEGIN:STANDARD
TZOFFSETFROM:-0700
TZOFFSETTO:-0800
TZNAME:PST
DTSTART:20251102T090000
END:STANDARD
BEGIN:DAYLIGHT
TZOFFSETFROM:-0800
TZOFFSETTO:-0700
TZNAME:PDT
DTSTART:20260308T100000
END:DAYLIGHT
BEGIN:STANDARD
TZOFFSETFROM:-0700
TZOFFSETTO:-0800
TZNAME:PST
DTSTART:20261101T090000
END:STANDARD
END:VTIMEZONE
BEGIN:VEVENT
DTSTART;TZID=America/Los_Angeles:20250829T190000
DTEND;TZID=America/Los_Angeles:20250829T210000
DTSTAMP:20260423T175016
CREATED:20250616T214215Z
LAST-MODIFIED:20250616T214217Z
UID:10001895-1756494000-1756501200@cstpdx.com
SUMMARY:Bill Plympton Presents Slide + Duckville
DESCRIPTION:Portland-born animator Bill Plympton makes a special appearance at The Clinton Street Theater for a screening of his most recent feature film\, Slide (2023)\, along with his latest short film\, Duckville (2024). \n\n\n\nSlide follows a guitar-playing cowboy in a corrupt 1940’s logging town\, who battles a pair of evil twins to save the village of Sourdough Creek. Duckville is a dark fairy tale\, staring Academy Award-nominated voice actor Jim Dale\, about a duck village that fakes a wild monster attack to increase fame and sympathy in order to gain tourists. \n\n\n\nScreening followed by a Q&A with Plympton. Plus\, every attendee will get to take home an original Bill Plympton sketch! \n\n\n\n    \n        Director: Bill Plympton\n        Year: 2023 / 2024\n        Country: United States\n        Runtime: 79 minutes / 8 minutes
URL:https://cstpdx.com/event/bill-plympton-slide/
CATEGORIES:animation,comedy,discussion
ATTACH;FMTTYPE=image/jpeg:https://cstpdx.com/wp-content/uploads/2025/06/bill-plympton-slide-poster.jpg
END:VEVENT
END:VCALENDAR