BEGIN:VCALENDAR
VERSION:2.0
PRODID:-//Clinton Street Theater - ECPv6.15.20//NONSGML v1.0//EN
CALSCALE:GREGORIAN
METHOD:PUBLISH
X-ORIGINAL-URL:https://cstpdx.com
X-WR-CALDESC:Events for Clinton Street Theater
REFRESH-INTERVAL;VALUE=DURATION:PT1H
X-Robots-Tag:noindex
X-PUBLISHED-TTL:PT1H
BEGIN:VTIMEZONE
TZID:America/Los_Angeles
BEGIN:DAYLIGHT
TZOFFSETFROM:-0800
TZOFFSETTO:-0700
TZNAME:PDT
DTSTART:20240310T100000
END:DAYLIGHT
BEGIN:STANDARD
TZOFFSETFROM:-0700
TZOFFSETTO:-0800
TZNAME:PST
DTSTART:20241103T090000
END:STANDARD
BEGIN:DAYLIGHT
TZOFFSETFROM:-0800
TZOFFSETTO:-0700
TZNAME:PDT
DTSTART:20250309T100000
END:DAYLIGHT
BEGIN:STANDARD
TZOFFSETFROM:-0700
TZOFFSETTO:-0800
TZNAME:PST
DTSTART:20251102T090000
END:STANDARD
BEGIN:DAYLIGHT
TZOFFSETFROM:-0800
TZOFFSETTO:-0700
TZNAME:PDT
DTSTART:20260308T100000
END:DAYLIGHT
BEGIN:STANDARD
TZOFFSETFROM:-0700
TZOFFSETTO:-0800
TZNAME:PST
DTSTART:20261101T090000
END:STANDARD
END:VTIMEZONE
BEGIN:VEVENT
DTSTART;TZID=America/Los_Angeles:20250828T190000
DTEND;TZID=America/Los_Angeles:20250828T210000
DTSTAMP:20260423T192112
CREATED:20250706T062930Z
LAST-MODIFIED:20250706T062932Z
UID:10001908-1756407600-1756414800@cstpdx.com
SUMMARY:Mind Game
DESCRIPTION:Part of the Hanabi Film Festival\, running select days Aug. 18 – 31. Limited festival passes available for access to all films. \n\n\n\nThe feature debut from Masaaki Yuasa (Devilman Crybaby)\, based on Robin Nishi’s manga of the same name\, uses a series of disparate visual styles to tell one continuous story about Nishi\, a 20-year-old NEET from Osaka\, who meets God after a fatal encounter. \n\n\n\nPraised by directors like Satoshi Kon (Perfect Blue) and Bill Plympton (The Tune)\, and featuring music production by Shinichirō Watanabe (Cowboy Bebop)\, Yuasa won numerous international awards for his first work and launched his successful career in film and television. \n\n\n\nScreened in Japanese with English subtitles. \n\n\n\n    \n        Director: Masaaki Yuasa\n        Year: 2004\n        Country: Japan\n        Runtime: 103 minutes
URL:https://cstpdx.com/event/mind-game/
CATEGORIES:hanabi
ATTACH;FMTTYPE=image/jpeg:https://cstpdx.com/wp-content/uploads/2025/07/Mind-Game-poster.jpg
END:VEVENT
END:VCALENDAR