BEGIN:VCALENDAR
VERSION:2.0
PRODID:-//Clinton Street Theater - ECPv6.15.20//NONSGML v1.0//EN
CALSCALE:GREGORIAN
METHOD:PUBLISH
X-ORIGINAL-URL:https://cstpdx.com
X-WR-CALDESC:Events for Clinton Street Theater
REFRESH-INTERVAL;VALUE=DURATION:PT1H
X-Robots-Tag:noindex
X-PUBLISHED-TTL:PT1H
BEGIN:VTIMEZONE
TZID:America/Los_Angeles
BEGIN:DAYLIGHT
TZOFFSETFROM:-0800
TZOFFSETTO:-0700
TZNAME:PDT
DTSTART:20240310T100000
END:DAYLIGHT
BEGIN:STANDARD
TZOFFSETFROM:-0700
TZOFFSETTO:-0800
TZNAME:PST
DTSTART:20241103T090000
END:STANDARD
BEGIN:DAYLIGHT
TZOFFSETFROM:-0800
TZOFFSETTO:-0700
TZNAME:PDT
DTSTART:20250309T100000
END:DAYLIGHT
BEGIN:STANDARD
TZOFFSETFROM:-0700
TZOFFSETTO:-0800
TZNAME:PST
DTSTART:20251102T090000
END:STANDARD
BEGIN:DAYLIGHT
TZOFFSETFROM:-0800
TZOFFSETTO:-0700
TZNAME:PDT
DTSTART:20260308T100000
END:DAYLIGHT
BEGIN:STANDARD
TZOFFSETFROM:-0700
TZOFFSETTO:-0800
TZNAME:PST
DTSTART:20261101T090000
END:STANDARD
END:VTIMEZONE
BEGIN:VEVENT
DTSTART;TZID=America/Los_Angeles:20250824T150000
DTEND;TZID=America/Los_Angeles:20250824T170000
DTSTAMP:20260424T015409
CREATED:20250706T060846Z
LAST-MODIFIED:20250706T060945Z
UID:10001905-1756047600-1756054800@cstpdx.com
SUMMARY:Black Tight Killers
DESCRIPTION:Portland premiere of the new restoration! \n\n\n\nPart of the Hanabi Film Festival\, running select days Aug. 18 – 31. Limited festival passes available for access to all films. \n\n\n\nStewardess Yoriko is kidnapped by a team of deadly female assassins who use vinyl records as weapons. Now\, it’s up to photographer Hondo to uncover the conspiracy while dealing with go-go dancing ninjas and bullets made of chewing gum. \n\n\n\nAn ultra-stylish\, candy-coated amusement park ride in the form of a movie\, this overlooked crime-noir delight is an essential big screen experience. Don’t think about the plot too much\, this is pure pop-art fun! Directed by Seijun Suzuki protégé Yasuharu Hasebe in his first feature film before he went on to direct more exploitative “pink” films such as the Alleycat Rock series. \n\n\n\nScreened in Japanese with English subtitles. \n\n\n\n    \n        Director: Yasuharu Hasebe\n        Year: 1966\n        Country: Japan\n        Runtime: 86 minutes
URL:https://cstpdx.com/event/black-tight-killers/
CATEGORIES:hanabi
ATTACH;FMTTYPE=image/png:https://cstpdx.com/wp-content/uploads/2025/07/Black-Tight-Killers.png
END:VEVENT
BEGIN:VEVENT
DTSTART;TZID=America/Los_Angeles:20250824T190000
DTEND;TZID=America/Los_Angeles:20250824T210000
DTSTAMP:20260424T015409
CREATED:20250706T061557Z
LAST-MODIFIED:20250706T061558Z
UID:10001906-1756062000-1756069200@cstpdx.com
SUMMARY:Dogra Magra
DESCRIPTION:Portland premiere of the new restoration! \n\n\n\nPart of the Hanabi Film Festival\, running select days Aug. 18 – 31. Limited festival passes available for access to all films. \n\n\n\nA man wakes in an asylum with no memory. Dr Wakabayashi helps him to recall his past in which he killed his bride on their wedding day. Part of his memory becomes linked to another doctor\, Dr Masaki\, and a manuscript\, Dogra Magra. As the two doctors treat him\, reality and fantasy become blurred and the patient becomes unsure of his identity or his doctors’ experiments. \n\n\n\nThe final feature film by Toshio Matsumoto (Funeral Parade of Roses) is an adaptation of the celebrated novel by Kyusaku Yumeno\, stunningly shot by cinematographer Tatsuo Suzuki (Pastoral: To Die in the Country and Lady Snowblood: Love Song of Vengeance). \n\n\n\nNot available outside of Japan for nearly 30 years\, we’re very excited to bring this masterpiece to Portland for the first time. \n\n\n\nScreened in Japanese with English subtitles. \n\n\n\n    \n        Director: Toshio Matsumoto\n        Year: 1988\n        Country: Japan\n        Runtime: 109 minutes
URL:https://cstpdx.com/event/dogra-magra/
CATEGORIES:hanabi
ATTACH;FMTTYPE=image/png:https://cstpdx.com/wp-content/uploads/2025/07/Dogra-Magra-copy.png
END:VEVENT
END:VCALENDAR